BEGIN:VCALENDAR
VERSION:2.0
PRODID:-//Arizona Christian University - ECPv6.4.0.1//NONSGML v1.0//EN
CALSCALE:GREGORIAN
METHOD:PUBLISH
X-ORIGINAL-URL:https://old.arizonachristian.edu
X-WR-CALDESC:Events for Arizona Christian University
REFRESH-INTERVAL;VALUE=DURATION:PT1H
X-Robots-Tag:noindex
X-PUBLISHED-TTL:PT1H
BEGIN:VTIMEZONE
TZID:America/Phoenix
BEGIN:STANDARD
TZOFFSETFROM:-0700
TZOFFSETTO:-0700
TZNAME:MST
DTSTART:20230101T000000
END:STANDARD
END:VTIMEZONE
BEGIN:VEVENT
DTSTART;TZID=America/Phoenix:20230222T170000
DTEND;TZID=America/Phoenix:20230222T200000
DTSTAMP:20260425T195833
CREATED:20230117T083917Z
LAST-MODIFIED:20230126T205642Z
UID:156840-1677085200-1677096000@old.arizonachristian.edu
SUMMARY:Pregame Party: MVB vs. Ottawa
DESCRIPTION:Get your tickets online
URL:https://old.arizonachristian.edu/event/pregame-party-mvb-vs-ottawa/
LOCATION:Firestorm Recreation Center
END:VEVENT
BEGIN:VEVENT
DTSTART;TZID=America/Phoenix:20230222T180000
DTEND;TZID=America/Phoenix:20230222T193000
DTSTAMP:20260425T195833
CREATED:20230126T235815Z
LAST-MODIFIED:20230223T020938Z
UID:157300-1677088800-1677094200@old.arizonachristian.edu
SUMMARY:Men's Volleyball vs. Ottawa
DESCRIPTION:
URL:https://old.arizonachristian.edu/event/mens-volleyball-vs-ottawa/
LOCATION:Firestorm Recreation Center
END:VEVENT
BEGIN:VEVENT
DTSTART;TZID=America/Phoenix:20230222T193000
DTEND;TZID=America/Phoenix:20230222T210000
DTSTAMP:20260425T195833
CREATED:20230126T231228Z
LAST-MODIFIED:20230223T035428Z
UID:157296-1677094200-1677099600@old.arizonachristian.edu
SUMMARY:Wednesday Night Live
DESCRIPTION:
URL:https://old.arizonachristian.edu/event/wednesday-night-live-2/
LOCATION:Tower Patio
END:VEVENT
END:VCALENDAR