BEGIN:VCALENDAR
VERSION:2.0
PRODID:-//Arizona Christian University - ECPv6.4.0.1//NONSGML v1.0//EN
CALSCALE:GREGORIAN
METHOD:PUBLISH
X-ORIGINAL-URL:https://old.arizonachristian.edu
X-WR-CALDESC:Events for Arizona Christian University
REFRESH-INTERVAL;VALUE=DURATION:PT1H
X-Robots-Tag:noindex
X-PUBLISHED-TTL:PT1H
BEGIN:VTIMEZONE
TZID:America/Phoenix
BEGIN:STANDARD
TZOFFSETFROM:-0700
TZOFFSETTO:-0700
TZNAME:MST
DTSTART:20230101T000000
END:STANDARD
END:VTIMEZONE
BEGIN:VEVENT
DTSTART;VALUE=DATE:20230407
DTEND;VALUE=DATE:20230408
DTSTAMP:20260425T084344
CREATED:20220623T180115Z
LAST-MODIFIED:20220623T180115Z
UID:149597-1680825600-1680911999@old.arizonachristian.edu
SUMMARY:Last Day to Withdraw - Spring 2 Online
DESCRIPTION:
URL:https://old.arizonachristian.edu/event/last-day-to-withdraw-spring-2-online/
END:VEVENT
BEGIN:VEVENT
DTSTART;VALUE=DATE:20230407
DTEND;VALUE=DATE:20230408
DTSTAMP:20260425T084344
CREATED:20220623T180115Z
LAST-MODIFIED:20220623T180115Z
UID:149598-1680825600-1680911999@old.arizonachristian.edu
SUMMARY:Good Friday Holiday (Offices Closed)
DESCRIPTION:
URL:https://old.arizonachristian.edu/event/good-friday-holiday-offices-closed/
END:VEVENT
END:VCALENDAR