BEGIN:VCALENDAR
VERSION:2.0
PRODID:-//Arizona Christian University - ECPv6.4.0.1//NONSGML v1.0//EN
CALSCALE:GREGORIAN
METHOD:PUBLISH
X-WR-CALNAME:Arizona Christian University
X-ORIGINAL-URL:https://old.arizonachristian.edu
X-WR-CALDESC:Events for Arizona Christian University
REFRESH-INTERVAL;VALUE=DURATION:PT1H
X-Robots-Tag:noindex
X-PUBLISHED-TTL:PT1H
BEGIN:VTIMEZONE
TZID:America/Phoenix
BEGIN:STANDARD
TZOFFSETFROM:-0700
TZOFFSETTO:-0700
TZNAME:MST
DTSTART:20230101T000000
END:STANDARD
END:VTIMEZONE
BEGIN:VEVENT
DTSTART;VALUE=DATE:20230901
DTEND;VALUE=DATE:20230902
DTSTAMP:20260422T234006
CREATED:20220623T181643Z
LAST-MODIFIED:20220623T181643Z
UID:149655-1693526400-1693612799@old.arizonachristian.edu
SUMMARY:Final Grades Due by 5:00pm (Canvas) -  Summer 2 Online
DESCRIPTION:
URL:https://old.arizonachristian.edu/event/final-grades-due-by-500pm-canvas-summer-2-online/
CATEGORIES:Summer Sessions 2023
END:VEVENT
BEGIN:VEVENT
DTSTART;VALUE=DATE:20230901
DTEND;VALUE=DATE:20230902
DTSTAMP:20260422T234006
CREATED:20220623T181658Z
LAST-MODIFIED:20220623T181658Z
UID:149662-1693526400-1693612799@old.arizonachristian.edu
SUMMARY:Degree Conferred for Completers - Summer
DESCRIPTION:
URL:https://old.arizonachristian.edu/event/degree-conferred-for-completers-summer/
CATEGORIES:Summer Sessions 2023
END:VEVENT
BEGIN:VEVENT
DTSTART;VALUE=DATE:20230902
DTEND;VALUE=DATE:20230903
DTSTAMP:20260422T234006
CREATED:20220623T181657Z
LAST-MODIFIED:20220623T181657Z
UID:149658-1693612800-1693699199@old.arizonachristian.edu
SUMMARY:Grades posted to academic records (Populi) -  Summer 2 Online
DESCRIPTION:
URL:https://old.arizonachristian.edu/event/grades-posted-to-academic-records-populi-summer-2-online/
CATEGORIES:Summer Sessions 2023
END:VEVENT
BEGIN:VEVENT
DTSTART;VALUE=DATE:20230908
DTEND;VALUE=DATE:20230909
DTSTAMP:20260422T234006
CREATED:20220623T181713Z
LAST-MODIFIED:20220623T181713Z
UID:149663-1694131200-1694217599@old.arizonachristian.edu
SUMMARY:Diplomas ready for pickup/mailed - Summer
DESCRIPTION:
URL:https://old.arizonachristian.edu/event/diplomas-ready-for-pickup-mailed-summer/
CATEGORIES:Summer Sessions 2023
END:VEVENT
BEGIN:VEVENT
DTSTART;VALUE=DATE:20230929
DTEND;VALUE=DATE:20230930
DTSTAMP:20260422T234006
CREATED:20220623T181658Z
LAST-MODIFIED:20220623T181658Z
UID:149659-1695945600-1696031999@old.arizonachristian.edu
SUMMARY:Last Day to Complete an Incomplete Course -  Summer Traditional
DESCRIPTION:
URL:https://old.arizonachristian.edu/event/last-day-to-complete-an-incomplete-course-summer-traditional/
CATEGORIES:Summer Sessions 2023
END:VEVENT
BEGIN:VEVENT
DTSTART;VALUE=DATE:20231001
DTEND;VALUE=DATE:20231002
DTSTAMP:20260422T234006
CREATED:20220623T181658Z
LAST-MODIFIED:20220623T181658Z
UID:149661-1696118400-1696204799@old.arizonachristian.edu
SUMMARY:Last Day to Complete an Incomplete Course -  Summer 2 Online
DESCRIPTION:
URL:https://old.arizonachristian.edu/event/last-day-to-complete-an-incomplete-course-summer-2-online/
CATEGORIES:Summer Sessions 2023
END:VEVENT
END:VCALENDAR