BEGIN:VCALENDAR
VERSION:2.0
PRODID:-//Arizona Christian University - ECPv6.4.0.1//NONSGML v1.0//EN
CALSCALE:GREGORIAN
METHOD:PUBLISH
X-ORIGINAL-URL:https://old.arizonachristian.edu
X-WR-CALDESC:Events for Arizona Christian University
REFRESH-INTERVAL;VALUE=DURATION:PT1H
X-Robots-Tag:noindex
X-PUBLISHED-TTL:PT1H
BEGIN:VTIMEZONE
TZID:America/Phoenix
BEGIN:STANDARD
TZOFFSETFROM:-0700
TZOFFSETTO:-0700
TZNAME:MST
DTSTART:20220101T000000
END:STANDARD
END:VTIMEZONE
BEGIN:VEVENT
DTSTART;TZID=America/Phoenix:20230119T173000
DTEND;TZID=America/Phoenix:20230119T213000
DTSTAMP:20260420T005259
CREATED:20230117T083916Z
LAST-MODIFIED:20230120T042431Z
UID:156827-1674149400-1674163800@old.arizonachristian.edu
SUMMARY:Basketball vs. Master's
DESCRIPTION:Get your tickets online and join the Ring of Fire.\n5:30 (W)\, 7:30 (M)
URL:https://old.arizonachristian.edu/event/basketball-vs-masters/
LOCATION:Event Center
END:VEVENT
BEGIN:VEVENT
DTSTART;VALUE=DATE:20230119
DTEND;VALUE=DATE:20230120
DTSTAMP:20260420T005259
CREATED:20221024T193958Z
LAST-MODIFIED:20230119T233951Z
UID:153062-1674086400-1674172799@old.arizonachristian.edu
SUMMARY:Student Leader Apps Close
DESCRIPTION:
URL:https://old.arizonachristian.edu/event/student-leader-apps-close/
END:VEVENT
BEGIN:VEVENT
DTSTART;TZID=America/Phoenix:20230118T180000
DTEND;TZID=America/Phoenix:20230118T210000
DTSTAMP:20260420T005259
CREATED:20230117T083916Z
LAST-MODIFIED:20230119T033859Z
UID:156825-1674064800-1674075600@old.arizonachristian.edu
SUMMARY:Ping Pong & Pizza
DESCRIPTION:Hosted by CAB
URL:https://old.arizonachristian.edu/event/dude-tournament/
LOCATION:Student Success Center
END:VEVENT
BEGIN:VEVENT
DTSTART;TZID=America/Phoenix:20230117T200000
DTEND;TZID=America/Phoenix:20230117T220000
DTSTAMP:20260420T005259
CREATED:20221220T165356Z
LAST-MODIFIED:20230118T045431Z
UID:155789-1673985600-1673992800@old.arizonachristian.edu
SUMMARY:Spikeball Intramurals
DESCRIPTION:Hosted by Campus Recreation
URL:https://old.arizonachristian.edu/event/spikeball-intramurals/
LOCATION:Firestorm Recreation Center
END:VEVENT
BEGIN:VEVENT
DTSTART;VALUE=DATE:20230116
DTEND;VALUE=DATE:20230117
DTSTAMP:20260420T005259
CREATED:20220623T180100Z
LAST-MODIFIED:20220623T180100Z
UID:149591-1673827200-1673913599@old.arizonachristian.edu
SUMMARY:Deadline for Independent Study/Internship Application - Spring 1 Online
DESCRIPTION:
URL:https://old.arizonachristian.edu/event/deadline-for-independent-study-internship-application-spring-1-online/
END:VEVENT
BEGIN:VEVENT
DTSTART;VALUE=DATE:20230116
DTEND;VALUE=DATE:20230117
DTSTAMP:20260420T005259
CREATED:20220623T180059Z
LAST-MODIFIED:20220623T180059Z
UID:149588-1673827200-1673913599@old.arizonachristian.edu
SUMMARY:Course Add/Drop Deadline - Spring 1 online
DESCRIPTION:
URL:https://old.arizonachristian.edu/event/course-add-drop-deadline-spring-1-online/
END:VEVENT
BEGIN:VEVENT
DTSTART;VALUE=DATE:20230116
DTEND;VALUE=DATE:20230117
DTSTAMP:20260420T005259
CREATED:20220623T180051Z
LAST-MODIFIED:20220623T180051Z
UID:149585-1673827200-1673913599@old.arizonachristian.edu
SUMMARY:Last day to Enroll/Unenroll from ACU - Spring 1 Online
DESCRIPTION:
URL:https://old.arizonachristian.edu/event/last-day-to-enroll-unenroll-from-acu-spring-1-online/
CATEGORIES:Spring Semester 2023
END:VEVENT
BEGIN:VEVENT
DTSTART;VALUE=DATE:20230116
DTEND;VALUE=DATE:20230117
DTSTAMP:20260420T005259
CREATED:20220623T180050Z
LAST-MODIFIED:20220623T180050Z
UID:149583-1673827200-1673913599@old.arizonachristian.edu
SUMMARY:Martin Luther King Jr. Day (No Classes\, Offices Closed)
DESCRIPTION:
URL:https://old.arizonachristian.edu/event/martin-luther-king-jr-day-no-classes-offices-closed/
CATEGORIES:Spring Semester 2023
END:VEVENT
BEGIN:VEVENT
DTSTART;VALUE=DATE:20230114
DTEND;VALUE=DATE:20230115
DTSTAMP:20260420T005259
CREATED:20220623T180648Z
LAST-MODIFIED:20220623T180648Z
UID:149624-1673654400-1673740799@old.arizonachristian.edu
SUMMARY:Independent Studies/Internships - Grades Posted (Populi)
DESCRIPTION:
URL:https://old.arizonachristian.edu/event/independent-studies-internships-grades-posted-populi/
CATEGORIES:Intercession 2022-2023
END:VEVENT
BEGIN:VEVENT
DTSTART;VALUE=DATE:20230113
DTEND;VALUE=DATE:20230114
DTSTAMP:20260420T005259
CREATED:20220623T180648Z
LAST-MODIFIED:20220623T180648Z
UID:149623-1673568000-1673654399@old.arizonachristian.edu
SUMMARY:Independent Studies/Internships - Final Grades Due by 5:00pm (Canvas)
DESCRIPTION:
URL:https://old.arizonachristian.edu/event/independent-studies-internships-final-grades-due-by-500pm-canvas/
CATEGORIES:Intercession 2022-2023
END:VEVENT
BEGIN:VEVENT
DTSTART;VALUE=DATE:20230113
DTEND;VALUE=DATE:20230114
DTSTAMP:20260420T005259
CREATED:20220623T174339Z
LAST-MODIFIED:20220623T175140Z
UID:149547-1673568000-1673654399@old.arizonachristian.edu
SUMMARY:Degree Conferred for Completers - Fall Semester
DESCRIPTION:
URL:https://old.arizonachristian.edu/event/degree-conferred-for-completers-fall-semester/
CATEGORIES:Fall Semester 2022
END:VEVENT
BEGIN:VEVENT
DTSTART;TZID=America/Phoenix:20230111T170000
DTEND;TZID=America/Phoenix:20230111T190000
DTSTAMP:20260420T005259
CREATED:20221220T165356Z
LAST-MODIFIED:20230110T082406Z
UID:155788-1673456400-1673463600@old.arizonachristian.edu
SUMMARY:Encounter
DESCRIPTION:
URL:https://old.arizonachristian.edu/event/encounter-3/
LOCATION:Pavilion
END:VEVENT
BEGIN:VEVENT
DTSTART;TZID=America/Phoenix:20230110T180000
DTEND;TZID=America/Phoenix:20230110T200000
DTSTAMP:20260420T005259
CREATED:20221220T165356Z
LAST-MODIFIED:20230110T082405Z
UID:155787-1673373600-1673380800@old.arizonachristian.edu
SUMMARY:Campfire Karaoke
DESCRIPTION:
URL:https://old.arizonachristian.edu/event/campfire-karaoke/
LOCATION:Pavilion
END:VEVENT
BEGIN:VEVENT
DTSTART;TZID=America/Phoenix:20230109T190000
DTEND;TZID=America/Phoenix:20230109T210000
DTSTAMP:20260420T005259
CREATED:20221201T203913Z
LAST-MODIFIED:20230110T032417Z
UID:154895-1673290800-1673298000@old.arizonachristian.edu
SUMMARY:Club Fair
DESCRIPTION:
URL:https://old.arizonachristian.edu/event/club-fair-2/
LOCATION:Pavilion
END:VEVENT
BEGIN:VEVENT
DTSTART;VALUE=DATE:20230109
DTEND;VALUE=DATE:20230115
DTSTAMP:20260420T005259
CREATED:20220623T180036Z
LAST-MODIFIED:20220623T180036Z
UID:149579-1673222400-1673740799@old.arizonachristian.edu
SUMMARY:Welcome Week (Campus) - Spring Semester
DESCRIPTION:
URL:https://old.arizonachristian.edu/event/welcome-week-campus-spring-semester/
CATEGORIES:Spring Semester 2023
END:VEVENT
BEGIN:VEVENT
DTSTART;VALUE=DATE:20230109
DTEND;VALUE=DATE:20230110
DTSTAMP:20260420T005259
CREATED:20220623T180036Z
LAST-MODIFIED:20220623T180036Z
UID:149581-1673222400-1673308799@old.arizonachristian.edu
SUMMARY:Classes Begin - Spring 1 Online
DESCRIPTION:
URL:https://old.arizonachristian.edu/event/classes-begin-spring-1-online/
CATEGORIES:Spring Semester 2023
END:VEVENT
BEGIN:VEVENT
DTSTART;VALUE=DATE:20230109
DTEND;VALUE=DATE:20230110
DTSTAMP:20260420T005259
CREATED:20220623T180036Z
LAST-MODIFIED:20220623T180036Z
UID:149580-1673222400-1673308799@old.arizonachristian.edu
SUMMARY:Classes Begin - Spring Traditional
DESCRIPTION:
URL:https://old.arizonachristian.edu/event/classes-begin-spring-traditional/
CATEGORIES:Spring Semester 2023
END:VEVENT
BEGIN:VEVENT
DTSTART;TZID=America/Phoenix:20230108T100000
DTEND;TZID=America/Phoenix:20230108T113000
DTSTAMP:20260420T005259
CREATED:20221201T203913Z
LAST-MODIFIED:20230108T180900Z
UID:154896-1673172000-1673177400@old.arizonachristian.edu
SUMMARY:Student Church Service
DESCRIPTION:
URL:https://old.arizonachristian.edu/event/student-church-service/
LOCATION:King Auditorium
END:VEVENT
BEGIN:VEVENT
DTSTART;VALUE=DATE:20230108
DTEND;VALUE=DATE:20230109
DTSTAMP:20260420T005259
CREATED:20220623T174339Z
LAST-MODIFIED:20220623T175133Z
UID:149546-1673136000-1673222399@old.arizonachristian.edu
SUMMARY:Last Day to Complete an Incomplete Course -  Fall 2 Online
DESCRIPTION:
URL:https://old.arizonachristian.edu/event/last-day-to-complete-an-incomplete-course-fall-2-online/
CATEGORIES:Fall Semester 2022
END:VEVENT
BEGIN:VEVENT
DTSTART;TZID=America/Phoenix:20230107T130000
DTEND;TZID=America/Phoenix:20230107T150000
DTSTAMP:20260420T005259
CREATED:20221220T165355Z
LAST-MODIFIED:20230107T213853Z
UID:155785-1673096400-1673103600@old.arizonachristian.edu
SUMMARY:Student Hike
DESCRIPTION:
URL:https://old.arizonachristian.edu/event/student-hike/
LOCATION:Thunderbird Conservation Park Trail\, 5486 W Pinnacle Peak Rd\, Glendale\, AZ 85310\, USA
END:VEVENT
BEGIN:VEVENT
DTSTART;VALUE=DATE:20230107
DTEND;VALUE=DATE:20230108
DTSTAMP:20260420T005259
CREATED:20220623T180035Z
LAST-MODIFIED:20220623T180035Z
UID:149578-1673049600-1673135999@old.arizonachristian.edu
SUMMARY:Returning Student Check-in - Spring Semester
DESCRIPTION:
URL:https://old.arizonachristian.edu/event/returning-student-check-in-spring-semester/
CATEGORIES:Spring Semester 2023
END:VEVENT
BEGIN:VEVENT
DTSTART;VALUE=DATE:20230106
DTEND;VALUE=DATE:20230107
DTSTAMP:20260420T005259
CREATED:20221201T203913Z
LAST-MODIFIED:20230106T233853Z
UID:154893-1672963200-1673049599@old.arizonachristian.edu
SUMMARY:New Students Check In
DESCRIPTION:
URL:https://old.arizonachristian.edu/event/new-students-check-in/
END:VEVENT
BEGIN:VEVENT
DTSTART;VALUE=DATE:20230106
DTEND;VALUE=DATE:20230107
DTSTAMP:20260420T005259
CREATED:20220623T180648Z
LAST-MODIFIED:20220623T180648Z
UID:149622-1672963200-1673049599@old.arizonachristian.edu
SUMMARY:Independent Studies/Internships - Term End
DESCRIPTION:
URL:https://old.arizonachristian.edu/event/independent-studies-internships-term-end/
CATEGORIES:Intercession 2022-2023
END:VEVENT
BEGIN:VEVENT
DTSTART;VALUE=DATE:20230106
DTEND;VALUE=DATE:20230107
DTSTAMP:20260420T005259
CREATED:20220623T180035Z
LAST-MODIFIED:20220623T180035Z
UID:149577-1672963200-1673049599@old.arizonachristian.edu
SUMMARY:New Student Check-in - Spring Semester
DESCRIPTION:
URL:https://old.arizonachristian.edu/event/new-student-check-in-spring-semester/
CATEGORIES:Spring Semester 2023
END:VEVENT
BEGIN:VEVENT
DTSTART;VALUE=DATE:20230102
DTEND;VALUE=DATE:20230103
DTSTAMP:20260420T005259
CREATED:20220623T180027Z
LAST-MODIFIED:20220623T180027Z
UID:149575-1672617600-1672703999@old.arizonachristian.edu
SUMMARY:Payment in Full or Payment Plans Established - Spring 1 Online
DESCRIPTION:
URL:https://old.arizonachristian.edu/event/payment-in-full-or-payment-plans-established-spring-1-online/
CATEGORIES:Spring Semester 2023
END:VEVENT
BEGIN:VEVENT
DTSTART;VALUE=DATE:20230102
DTEND;VALUE=DATE:20230103
DTSTAMP:20260420T005259
CREATED:20220623T180027Z
LAST-MODIFIED:20220623T180027Z
UID:149574-1672617600-1672703999@old.arizonachristian.edu
SUMMARY:Payment in Full or Payment Plans Established - Spring Traditional
DESCRIPTION:
URL:https://old.arizonachristian.edu/event/payment-in-full-or-payment-plans-established-spring-traditional/
CATEGORIES:Spring Semester 2023
END:VEVENT
BEGIN:VEVENT
DTSTART;VALUE=DATE:20221226
DTEND;VALUE=DATE:20221227
DTSTAMP:20260420T005259
CREATED:20220623T180647Z
LAST-MODIFIED:20220623T180647Z
UID:149621-1672012800-1672099199@old.arizonachristian.edu
SUMMARY:Last Day to submit an Independent Study Petition
DESCRIPTION:
URL:https://old.arizonachristian.edu/event/last-day-to-submit-an-independent-study-petition/
CATEGORIES:Intercession 2022-2023
END:VEVENT
BEGIN:VEVENT
DTSTART;VALUE=DATE:20221224
DTEND;VALUE=DATE:20221225
DTSTAMP:20260420T005259
CREATED:20220623T174338Z
LAST-MODIFIED:20220623T175126Z
UID:149545-1671840000-1671926399@old.arizonachristian.edu
SUMMARY:Grades posted to academic records (Populi) -  Fall 2 Online
DESCRIPTION:
URL:https://old.arizonachristian.edu/event/grades-posted-to-academic-records-populi-fall-2-online/
CATEGORIES:Fall Semester 2022
END:VEVENT
BEGIN:VEVENT
DTSTART;VALUE=DATE:20221223
DTEND;VALUE=DATE:20221224
DTSTAMP:20260420T005259
CREATED:20220623T174325Z
LAST-MODIFIED:20220623T175119Z
UID:149544-1671753600-1671839999@old.arizonachristian.edu
SUMMARY:Grades posted to academic records (Populi) -  Fall Traditional
DESCRIPTION:
URL:https://old.arizonachristian.edu/event/grades-posted-to-academic-records-populi-fall-traditional/
CATEGORIES:Fall Semester 2022
END:VEVENT
BEGIN:VEVENT
DTSTART;VALUE=DATE:20221223
DTEND;VALUE=DATE:20221224
DTSTAMP:20260420T005259
CREATED:20220623T174324Z
LAST-MODIFIED:20220623T175112Z
UID:149543-1671753600-1671839999@old.arizonachristian.edu
SUMMARY:Final Grades Due by 5:00pm (Canvas) -  Fall 2 Online
DESCRIPTION:
URL:https://old.arizonachristian.edu/event/final-grades-due-by-500pm-canvas-fall-2-online/
CATEGORIES:Fall Semester 2022
END:VEVENT
END:VCALENDAR