BEGIN:VCALENDAR
VERSION:2.0
PRODID:-//Arizona Christian University - ECPv6.4.0.1//NONSGML v1.0//EN
CALSCALE:GREGORIAN
METHOD:PUBLISH
X-WR-CALNAME:Arizona Christian University
X-ORIGINAL-URL:https://old.arizonachristian.edu
X-WR-CALDESC:Events for Arizona Christian University
REFRESH-INTERVAL;VALUE=DURATION:PT1H
X-Robots-Tag:noindex
X-PUBLISHED-TTL:PT1H
BEGIN:VTIMEZONE
TZID:America/Phoenix
BEGIN:STANDARD
TZOFFSETFROM:-0700
TZOFFSETTO:-0700
TZNAME:MST
DTSTART:20220101T000000
END:STANDARD
END:VTIMEZONE
BEGIN:VEVENT
DTSTART;VALUE=DATE:20230102
DTEND;VALUE=DATE:20230103
DTSTAMP:20260420T060718
CREATED:20220623T180027Z
LAST-MODIFIED:20220623T180027Z
UID:149575-1672617600-1672703999@old.arizonachristian.edu
SUMMARY:Payment in Full or Payment Plans Established - Spring 1 Online
DESCRIPTION:
URL:https://old.arizonachristian.edu/event/payment-in-full-or-payment-plans-established-spring-1-online/
CATEGORIES:Spring Semester 2023
END:VEVENT
BEGIN:VEVENT
DTSTART;VALUE=DATE:20230102
DTEND;VALUE=DATE:20230103
DTSTAMP:20260420T060718
CREATED:20220623T180027Z
LAST-MODIFIED:20220623T180027Z
UID:149574-1672617600-1672703999@old.arizonachristian.edu
SUMMARY:Payment in Full or Payment Plans Established - Spring Traditional
DESCRIPTION:
URL:https://old.arizonachristian.edu/event/payment-in-full-or-payment-plans-established-spring-traditional/
CATEGORIES:Spring Semester 2023
END:VEVENT
BEGIN:VEVENT
DTSTART;VALUE=DATE:20221226
DTEND;VALUE=DATE:20221227
DTSTAMP:20260420T060718
CREATED:20220623T180647Z
LAST-MODIFIED:20220623T180647Z
UID:149621-1672012800-1672099199@old.arizonachristian.edu
SUMMARY:Last Day to submit an Independent Study Petition
DESCRIPTION:
URL:https://old.arizonachristian.edu/event/last-day-to-submit-an-independent-study-petition/
CATEGORIES:Intercession 2022-2023
END:VEVENT
BEGIN:VEVENT
DTSTART;VALUE=DATE:20221224
DTEND;VALUE=DATE:20221225
DTSTAMP:20260420T060718
CREATED:20220623T174338Z
LAST-MODIFIED:20220623T175126Z
UID:149545-1671840000-1671926399@old.arizonachristian.edu
SUMMARY:Grades posted to academic records (Populi) -  Fall 2 Online
DESCRIPTION:
URL:https://old.arizonachristian.edu/event/grades-posted-to-academic-records-populi-fall-2-online/
CATEGORIES:Fall Semester 2022
END:VEVENT
BEGIN:VEVENT
DTSTART;VALUE=DATE:20221223
DTEND;VALUE=DATE:20221224
DTSTAMP:20260420T060718
CREATED:20220623T174325Z
LAST-MODIFIED:20220623T175119Z
UID:149544-1671753600-1671839999@old.arizonachristian.edu
SUMMARY:Grades posted to academic records (Populi) -  Fall Traditional
DESCRIPTION:
URL:https://old.arizonachristian.edu/event/grades-posted-to-academic-records-populi-fall-traditional/
CATEGORIES:Fall Semester 2022
END:VEVENT
BEGIN:VEVENT
DTSTART;VALUE=DATE:20221223
DTEND;VALUE=DATE:20221224
DTSTAMP:20260420T060718
CREATED:20220623T174324Z
LAST-MODIFIED:20220623T175112Z
UID:149543-1671753600-1671839999@old.arizonachristian.edu
SUMMARY:Final Grades Due by 5:00pm (Canvas) -  Fall 2 Online
DESCRIPTION:
URL:https://old.arizonachristian.edu/event/final-grades-due-by-500pm-canvas-fall-2-online/
CATEGORIES:Fall Semester 2022
END:VEVENT
BEGIN:VEVENT
DTSTART;VALUE=DATE:20221222
DTEND;VALUE=DATE:20221223
DTSTAMP:20260420T060718
CREATED:20220623T174324Z
LAST-MODIFIED:20220623T175056Z
UID:149542-1671667200-1671753599@old.arizonachristian.edu
SUMMARY:Final Grades Due by 5:00pm (Canvas) -  Fall Traditional
DESCRIPTION:
URL:https://old.arizonachristian.edu/event/final-grades-due-by-500pm-canvas-fall-traditional/
CATEGORIES:Fall Semester 2022
END:VEVENT
BEGIN:VEVENT
DTSTART;VALUE=DATE:20221219
DTEND;VALUE=DATE:20221220
DTSTAMP:20260420T060718
CREATED:20220623T180647Z
LAST-MODIFIED:20220623T180647Z
UID:149620-1671408000-1671494399@old.arizonachristian.edu
SUMMARY:Independent Studies/Internships - Term Start
DESCRIPTION:
URL:https://old.arizonachristian.edu/event/independent-studies-internships-term-start/
CATEGORIES:Intercession 2022-2023
END:VEVENT
BEGIN:VEVENT
DTSTART;VALUE=DATE:20221218
DTEND;VALUE=DATE:20221219
DTSTAMP:20260420T060718
CREATED:20220623T174324Z
LAST-MODIFIED:20220623T175048Z
UID:149541-1671321600-1671407999@old.arizonachristian.edu
SUMMARY:Last Day of Scheduled Class - Fall 2 Online
DESCRIPTION:
URL:https://old.arizonachristian.edu/event/last-day-of-scheduled-class-fall-2-online/
CATEGORIES:Fall Semester 2022
END:VEVENT
BEGIN:VEVENT
DTSTART;VALUE=DATE:20221216
DTEND;VALUE=DATE:20230106
DTSTAMP:20260420T060718
CREATED:20221201T203913Z
LAST-MODIFIED:20221216T035353Z
UID:154894-1671148800-1672963199@old.arizonachristian.edu
SUMMARY:Christmas Break (for students)
DESCRIPTION:
URL:https://old.arizonachristian.edu/event/christmas-break/
END:VEVENT
BEGIN:VEVENT
DTSTART;VALUE=DATE:20221215
DTEND;VALUE=DATE:20221216
DTSTAMP:20260420T060718
CREATED:20220623T174324Z
LAST-MODIFIED:20220623T175041Z
UID:149540-1671062400-1671148799@old.arizonachristian.edu
SUMMARY:Last Day of Scheduled Class - Fall Traditional
DESCRIPTION:
URL:https://old.arizonachristian.edu/event/last-day-of-scheduled-class-fall-traditional/
CATEGORIES:Fall Semester 2022
END:VEVENT
BEGIN:VEVENT
DTSTART;VALUE=DATE:20221212
DTEND;VALUE=DATE:20221216
DTSTAMP:20260420T060718
CREATED:20220623T174310Z
LAST-MODIFIED:20220623T175032Z
UID:149539-1670803200-1671148799@old.arizonachristian.edu
SUMMARY:Final Examinations Week (Campus)
DESCRIPTION:
URL:https://old.arizonachristian.edu/event/final-examinations-week-campus/
CATEGORIES:Fall Semester 2022
END:VEVENT
BEGIN:VEVENT
DTSTART;TZID=America/Phoenix:20221209T200000
DTEND;TZID=America/Phoenix:20221209T220000
DTSTAMP:20260420T060718
CREATED:20221109T205420Z
LAST-MODIFIED:20221210T043854Z
UID:153883-1670616000-1670623200@old.arizonachristian.edu
SUMMARY:Winter Formal
DESCRIPTION:Attire: Formal
URL:https://old.arizonachristian.edu/event/winter-formal/
LOCATION:Firestorm Recreation Center
END:VEVENT
BEGIN:VEVENT
DTSTART;TZID=America/Phoenix:20221209T183000
DTEND;TZID=America/Phoenix:20221209T200000
DTSTAMP:20260420T060718
CREATED:20221201T203913Z
LAST-MODIFIED:20221210T022400Z
UID:154892-1670610600-1670616000@old.arizonachristian.edu
SUMMARY:Choir Christmas Concert
DESCRIPTION:Location: Administration Building
URL:https://old.arizonachristian.edu/event/choir-christmas-concert/
END:VEVENT
BEGIN:VEVENT
DTSTART;TZID=America/Phoenix:20221208T173000
DTEND;TZID=America/Phoenix:20221208T213000
DTSTAMP:20260420T060718
CREATED:20221201T203913Z
LAST-MODIFIED:20221209T042402Z
UID:154891-1670520600-1670535000@old.arizonachristian.edu
SUMMARY:Blackout Games vs. Ottawa
DESCRIPTION:Location: Event Center. Women play at 5:30. Men play at 7:30.
URL:https://old.arizonachristian.edu/event/blackout-games-vs-ottawa/
END:VEVENT
BEGIN:VEVENT
DTSTART;TZID=America/Phoenix:20221207T190000
DTEND;TZID=America/Phoenix:20221207T210000
DTSTAMP:20260420T060718
CREATED:20221201T203912Z
LAST-MODIFIED:20221208T035353Z
UID:154890-1670439600-1670446800@old.arizonachristian.edu
SUMMARY:Encounter
DESCRIPTION:Location: Patriot Courtyard. Dress warm as it will be outside.
URL:https://old.arizonachristian.edu/event/encounter-2/
END:VEVENT
BEGIN:VEVENT
DTSTART;TZID=America/Phoenix:20221206T200000
DTEND;TZID=America/Phoenix:20221206T220000
DTSTAMP:20260420T060718
CREATED:20221031T161432Z
LAST-MODIFIED:20221207T042352Z
UID:153393-1670356800-1670364000@old.arizonachristian.edu
SUMMARY:Campus Rec: 3 on 3 Basketball
DESCRIPTION:Create a team and compete against classmates to finish out the Fall semester!\nLocation: Firestorm Recreation Center
URL:https://old.arizonachristian.edu/event/campus-rec-3-on-3-basketball-4/
END:VEVENT
BEGIN:VEVENT
DTSTART;TZID=America/Phoenix:20221206T113000
DTEND;TZID=America/Phoenix:20221206T130000
DTSTAMP:20260420T060718
CREATED:20221201T203912Z
LAST-MODIFIED:20221206T193905Z
UID:154889-1670326200-1670331600@old.arizonachristian.edu
SUMMARY:Pancakes with Pastor
DESCRIPTION:Join Pastor Travis and Steven Valdez after Chapel in the Pavilion for some pancakes and bacon.
URL:https://old.arizonachristian.edu/event/pancakes-with-pastor/
END:VEVENT
BEGIN:VEVENT
DTSTART;VALUE=DATE:20221205
DTEND;VALUE=DATE:20221206
DTSTAMP:20260420T060718
CREATED:20221201T203912Z
LAST-MODIFIED:20221205T235412Z
UID:154886-1670198400-1670284799@old.arizonachristian.edu
SUMMARY:Chalk the Walk
DESCRIPTION:
URL:https://old.arizonachristian.edu/event/chalk-the-walk/
LOCATION:Pavilion
END:VEVENT
BEGIN:VEVENT
DTSTART;VALUE=DATE:20221205
DTEND;VALUE=DATE:20221206
DTSTAMP:20260420T060718
CREATED:20221201T203912Z
LAST-MODIFIED:20221205T235412Z
UID:154888-1670198400-1670284799@old.arizonachristian.edu
SUMMARY:Prayer Tree Begins
DESCRIPTION:
URL:https://old.arizonachristian.edu/event/prayer-tree-begins/
LOCATION:Pavilion
END:VEVENT
BEGIN:VEVENT
DTSTART;TZID=America/Phoenix:20221203T190000
DTEND;TZID=America/Phoenix:20221203T200000
DTSTAMP:20260420T060718
CREATED:20221201T203911Z
LAST-MODIFIED:20221204T023907Z
UID:154884-1670094000-1670097600@old.arizonachristian.edu
SUMMARY:Band Concert
DESCRIPTION:Location: Barrett Lawn. Dress warm as it will be outside.
URL:https://old.arizonachristian.edu/event/band-concert/
END:VEVENT
BEGIN:VEVENT
DTSTART;TZID=America/Phoenix:20221130T190000
DTEND;TZID=America/Phoenix:20221130T210000
DTSTAMP:20260420T060718
CREATED:20221031T161432Z
LAST-MODIFIED:20221201T033927Z
UID:153392-1669834800-1669842000@old.arizonachristian.edu
SUMMARY:CAB: Christmas Tree Lighting
DESCRIPTION:Campus traditon!
URL:https://old.arizonachristian.edu/event/cab-christmas-tree-lighting/
LOCATION:BLDG 2300 | Student Success Center Building-1-2300-PAVILION (50)
END:VEVENT
BEGIN:VEVENT
DTSTART;TZID=America/Phoenix:20221129T200000
DTEND;TZID=America/Phoenix:20221129T220000
DTSTAMP:20260420T060718
CREATED:20221031T161431Z
LAST-MODIFIED:20221130T043956Z
UID:153391-1669752000-1669759200@old.arizonachristian.edu
SUMMARY:Campus Rec: 3 on 3 Basketball
DESCRIPTION:Create a team and compete against classmates to finish out the Fall semester!\nLocation: Firestorm Recreation Center
URL:https://old.arizonachristian.edu/event/campus-rec-3-on-3-basketball-3/
END:VEVENT
BEGIN:VEVENT
DTSTART;VALUE=DATE:20221123
DTEND;VALUE=DATE:20221126
DTSTAMP:20260420T060718
CREATED:20221031T161431Z
LAST-MODIFIED:20221125T232406Z
UID:153390-1669161600-1669420799@old.arizonachristian.edu
SUMMARY:Thanksgiving Break
DESCRIPTION:
URL:https://old.arizonachristian.edu/event/thanksgiving-break/
END:VEVENT
BEGIN:VEVENT
DTSTART;VALUE=DATE:20221123
DTEND;VALUE=DATE:20221126
DTSTAMP:20260420T060718
CREATED:20220623T174310Z
LAST-MODIFIED:20220623T175024Z
UID:149538-1669161600-1669420799@old.arizonachristian.edu
SUMMARY:Thanksgiving Holiday (No Classes\, Offices Closed)
DESCRIPTION:
URL:https://old.arizonachristian.edu/event/thanksgiving-holiday-no-classes-offices-closed/
CATEGORIES:Fall Semester 2022
END:VEVENT
BEGIN:VEVENT
DTSTART;VALUE=DATE:20221118
DTEND;VALUE=DATE:20221120
DTSTAMP:20260420T060718
CREATED:20221031T161431Z
LAST-MODIFIED:20221119T235358Z
UID:153389-1668729600-1668902399@old.arizonachristian.edu
SUMMARY:Clue Performance
DESCRIPTION:Check Flyer for details.
URL:https://old.arizonachristian.edu/event/clue-performance/
END:VEVENT
BEGIN:VEVENT
DTSTART;VALUE=DATE:20221118
DTEND;VALUE=DATE:20221119
DTSTAMP:20260420T060718
CREATED:20220623T174309Z
LAST-MODIFIED:20220623T175010Z
UID:149537-1668729600-1668815999@old.arizonachristian.edu
SUMMARY:Last Day to Withdraw - Fall 2 Online
DESCRIPTION:
URL:https://old.arizonachristian.edu/event/last-day-to-withdraw-fall-2-online/
CATEGORIES:Fall Semester 2022
END:VEVENT
BEGIN:VEVENT
DTSTART;TZID=America/Phoenix:20221116T190000
DTEND;TZID=America/Phoenix:20221116T210000
DTSTAMP:20260420T060718
CREATED:20221031T161431Z
LAST-MODIFIED:20221117T033904Z
UID:153388-1668625200-1668632400@old.arizonachristian.edu
SUMMARY:Operation Christmas Child
DESCRIPTION:Location: Firestorm Recreation Center\nDrop off your shoe box and hang out with some classmates.
URL:https://old.arizonachristian.edu/event/operation-christmas-child/
END:VEVENT
BEGIN:VEVENT
DTSTART;TZID=America/Phoenix:20221115T200000
DTEND;TZID=America/Phoenix:20221115T220000
DTSTAMP:20260420T060718
CREATED:20221031T161431Z
LAST-MODIFIED:20221116T045452Z
UID:153387-1668542400-1668549600@old.arizonachristian.edu
SUMMARY:Campus Rec: 3 on 3 Basketball
DESCRIPTION:Create a team and compete against classmates to finish out the Fall semester!\nLocation: Firestorm Recreation Center
URL:https://old.arizonachristian.edu/event/campus-rec-3-on-3-basketball-2/
END:VEVENT
BEGIN:VEVENT
DTSTART;TZID=America/Phoenix:20221115T110000
DTEND;TZID=America/Phoenix:20221115T140000
DTSTAMP:20260420T060718
CREATED:20221031T161431Z
LAST-MODIFIED:20221115T202403Z
UID:153386-1668510000-1668520800@old.arizonachristian.edu
SUMMARY:Career Fair
DESCRIPTION:Looking for great organizations to work for? Come out and network.
URL:https://old.arizonachristian.edu/event/career-fair-2/
LOCATION:BLDG 2300 | Student Success Center Building-1-2300-PAVILION (50)
END:VEVENT
END:VCALENDAR