BEGIN:VCALENDAR
VERSION:2.0
PRODID:-//Arizona Christian University - ECPv6.4.0.1//NONSGML v1.0//EN
CALSCALE:GREGORIAN
METHOD:PUBLISH
X-WR-CALNAME:Arizona Christian University
X-ORIGINAL-URL:https://old.arizonachristian.edu
X-WR-CALDESC:Events for Arizona Christian University
REFRESH-INTERVAL;VALUE=DURATION:PT1H
X-Robots-Tag:noindex
X-PUBLISHED-TTL:PT1H
BEGIN:VTIMEZONE
TZID:America/Phoenix
BEGIN:STANDARD
TZOFFSETFROM:-0700
TZOFFSETTO:-0700
TZNAME:MST
DTSTART:20220101T000000
END:STANDARD
TZID:US/Pacific
BEGIN:DAYLIGHT
TZOFFSETFROM:-0800
TZOFFSETTO:-0700
TZNAME:PDT
DTSTART:20220313T100000
END:DAYLIGHT
BEGIN:STANDARD
TZOFFSETFROM:-0700
TZOFFSETTO:-0800
TZNAME:PST
DTSTART:20221106T090000
END:STANDARD
END:VTIMEZONE
BEGIN:VEVENT
DTSTART;VALUE=DATE:20221023
DTEND;VALUE=DATE:20221024
DTSTAMP:20260420T134423
CREATED:20220623T174246Z
LAST-MODIFIED:20220623T174851Z
UID:149523-1666483200-1666569599@old.arizonachristian.edu
SUMMARY:Last Day of Scheduled Class - Fall 1 Online
DESCRIPTION:
URL:https://old.arizonachristian.edu/event/last-day-of-scheduled-class-fall-1-online/
CATEGORIES:Fall Semester 2022
END:VEVENT
BEGIN:VEVENT
DTSTART;TZID=America/Phoenix:20221021T100000
DTEND;TZID=America/Phoenix:20221021T110000
DTSTAMP:20260420T134423
CREATED:20220923T185422Z
LAST-MODIFIED:20221021T175545Z
UID:151564-1666346400-1666350000@old.arizonachristian.edu
SUMMARY:Coffee and Careers
DESCRIPTION:Join us for a time of coffee and get helpful information for your future. Location: TC Commons
URL:https://old.arizonachristian.edu/event/coffee-and-careers-2/
LOCATION:BLDG 3200 | The Commons-1-RM-105 (80)
END:VEVENT
BEGIN:VEVENT
DTSTART;TZID=America/Phoenix:20221019T180000
DTEND;TZID=America/Phoenix:20221019T210000
DTSTAMP:20260420T134423
CREATED:20220923T215359Z
LAST-MODIFIED:20221020T033852Z
UID:151591-1666202400-1666213200@old.arizonachristian.edu
SUMMARY:CAB: Fall Festival
DESCRIPTION:Come out to the Pavilion for some Fall fun with the Campus Activities Board.
URL:https://old.arizonachristian.edu/event/cab-fall-festival/
END:VEVENT
BEGIN:VEVENT
DTSTART;TZID=America/Phoenix:20221018T200000
DTEND;TZID=America/Phoenix:20221018T220000
DTSTAMP:20260420T134423
CREATED:20220923T185422Z
LAST-MODIFIED:20221019T045425Z
UID:151563-1666123200-1666130400@old.arizonachristian.edu
SUMMARY:Intramural Dodgeball
DESCRIPTION:
URL:https://old.arizonachristian.edu/event/intramural-dodgeball-4/
LOCATION:Firestorm Recreation Center
END:VEVENT
BEGIN:VEVENT
DTSTART;VALUE=DATE:20221017
DTEND;VALUE=DATE:20221018
DTSTAMP:20260420T134423
CREATED:20220623T171919Z
LAST-MODIFIED:20220623T171919Z
UID:149514-1665964800-1666051199@old.arizonachristian.edu
SUMMARY:Payment in Full or Payment Plans Established - Fall 2 Online
DESCRIPTION:
URL:https://old.arizonachristian.edu/event/payment-in-full-or-payment-plans-established-fall-2-online/
CATEGORIES:Fall Semester 2022
END:VEVENT
BEGIN:VEVENT
DTSTART;TZID=America/Phoenix:20221013T110000
DTEND;TZID=America/Phoenix:20221013T130000
DTSTAMP:20260420T134423
CREATED:20220923T185421Z
LAST-MODIFIED:20221013T195357Z
UID:151562-1665658800-1665666000@old.arizonachristian.edu
SUMMARY:Local Missions Fair
DESCRIPTION:Join us after Chapel for a Local Missions Fair in the Pavilion.
URL:https://old.arizonachristian.edu/event/local-missions-fair/
LOCATION:BLDG 2300 | Student Success Center Building-1-2300-PAVILION (50)
END:VEVENT
BEGIN:VEVENT
DTSTART;TZID=America/Phoenix:20221012T190000
DTEND;TZID=America/Phoenix:20221012T210000
DTSTAMP:20260420T134423
CREATED:20220923T212416Z
LAST-MODIFIED:20221013T035351Z
UID:151586-1665601200-1665608400@old.arizonachristian.edu
SUMMARY:Fields of Faith
DESCRIPTION:ACU is hosting Fields of Faith in collabaration with Fellowship of Christian Athletes on the football field.
URL:https://old.arizonachristian.edu/event/fields-of-faith/
LOCATION:SPEC 0000 | Athletic Fields-1-FLD-FOOTBALL (100)
END:VEVENT
BEGIN:VEVENT
DTSTART;TZID=America/Phoenix:20221011T200000
DTEND;TZID=America/Phoenix:20221011T220000
DTSTAMP:20260420T134423
CREATED:20220923T185421Z
LAST-MODIFIED:20221012T045356Z
UID:151561-1665518400-1665525600@old.arizonachristian.edu
SUMMARY:Intramural Dodgeball
DESCRIPTION:
URL:https://old.arizonachristian.edu/event/intramural-dodgeball-3/
LOCATION:Firestorm Recreation Center
END:VEVENT
BEGIN:VEVENT
DTSTART;TZID=America/Phoenix:20221011T110000
DTEND;TZID=America/Phoenix:20221011T130000
DTSTAMP:20260420T134423
CREATED:20220923T185421Z
LAST-MODIFIED:20221011T195412Z
UID:151560-1665486000-1665493200@old.arizonachristian.edu
SUMMARY:Mission Fair
DESCRIPTION:Join us after Chapel for a Global Missions Fair in the Pavilion!
URL:https://old.arizonachristian.edu/event/mission-fair/
LOCATION:BLDG 2300 | Student Success Center Building-1-2300-PAVILION (50)
END:VEVENT
BEGIN:VEVENT
DTSTART;TZID=America/Phoenix:20221005T183000
DTEND;TZID=America/Phoenix:20221005T203000
DTSTAMP:20260420T134423
CREATED:20220923T212415Z
LAST-MODIFIED:20221006T025353Z
UID:151584-1664994600-1665001800@old.arizonachristian.edu
SUMMARY:CAB: Bingo Night
DESCRIPTION:A night of bingo hosted by the Campus Activities Board in the Pavilion.
URL:https://old.arizonachristian.edu/event/cab-bingo-night/
END:VEVENT
BEGIN:VEVENT
DTSTART;TZID=America/Phoenix:20221004T200000
DTEND;TZID=America/Phoenix:20221004T220000
DTSTAMP:20260420T134423
CREATED:20220923T185420Z
LAST-MODIFIED:20221005T045351Z
UID:151557-1664913600-1664920800@old.arizonachristian.edu
SUMMARY:Intramural Dodgeball
DESCRIPTION:Intramural Sports will happen every Tuesday night from 8-10PM. \nLocation: Firestorm Recreation Center \nSign up here: https://www.imleagues.com/spa/portal/home
URL:https://old.arizonachristian.edu/event/intramural-dodgeball/
LOCATION:Firestorm Recreation Center
END:VEVENT
BEGIN:VEVENT
DTSTART;TZID=America/Phoenix:20221004T200000
DTEND;TZID=America/Phoenix:20221004T220000
DTSTAMP:20260420T134423
CREATED:20220923T185420Z
LAST-MODIFIED:20221005T045351Z
UID:151559-1664913600-1664920800@old.arizonachristian.edu
SUMMARY:Intramural Dodgeball
DESCRIPTION:
URL:https://old.arizonachristian.edu/event/intramural-dodgeball-2/
LOCATION:Firestorm Recreation Center
END:VEVENT
BEGIN:VEVENT
DTSTART;TZID=America/Phoenix:20221001T180000
DTEND;TZID=America/Phoenix:20221001T220000
DTSTAMP:20260420T134423
CREATED:20220923T185420Z
LAST-MODIFIED:20221002T045413Z
UID:151555-1664647200-1664661600@old.arizonachristian.edu
SUMMARY:Ring of Fire: ACU vs. Ottawa (Football)
DESCRIPTION:Get rowdy in the student section as we take on our crosstown rival!
URL:https://old.arizonachristian.edu/event/ring-of-fire-acu-vs-ottawa-football/
END:VEVENT
BEGIN:VEVENT
DTSTART;TZID=America/Phoenix:20220930T100000
DTEND;TZID=America/Phoenix:20220930T110000
DTSTAMP:20260420T134423
CREATED:20220923T185419Z
LAST-MODIFIED:20220930T175451Z
UID:151554-1664532000-1664535600@old.arizonachristian.edu
SUMMARY:Coffee and Careers
DESCRIPTION:Join us for a time of coffee and get helpful information for your future. Location: TC Commons
URL:https://old.arizonachristian.edu/event/coffee-and-careers/
LOCATION:BLDG 3200 | The Commons-1-RM-105 (80)
END:VEVENT
BEGIN:VEVENT
DTSTART;TZID=America/Phoenix:20220929T110000
DTEND;TZID=America/Phoenix:20220929T130000
DTSTAMP:20260420T134423
CREATED:20220923T185419Z
LAST-MODIFIED:20220929T193858Z
UID:151553-1664449200-1664456400@old.arizonachristian.edu
SUMMARY:Career Fair
DESCRIPTION:Post ChapelCareer Fair in the Pavilion!\nCome out and make some connections.
URL:https://old.arizonachristian.edu/event/career-fair/
LOCATION:BLDG 2300 | Student Success Center Building-1-2300-PAVILION (50)
END:VEVENT
BEGIN:VEVENT
DTSTART;TZID=America/Phoenix:20220928T190000
DTEND;TZID=America/Phoenix:20220928T210000
DTSTAMP:20260420T134423
CREATED:20220906T225421Z
LAST-MODIFIED:20220929T033910Z
UID:150679-1664391600-1664398800@old.arizonachristian.edu
SUMMARY:CAB: Lip Sync or Swim
DESCRIPTION:Get a partner and compete in this light-hearted Cornhole Tournament hosted by CAB and the Cornhole Club.\nLocation: Pavilion.
URL:https://old.arizonachristian.edu/event/cab-cornhole-tournament/
LOCATION:BLDG 2300 | Student Success Center Building-1-2300-PAVILION (50)
END:VEVENT
BEGIN:VEVENT
DTSTART;TZID=America/Phoenix:20220927T200000
DTEND;TZID=America/Phoenix:20220927T220000
DTSTAMP:20260420T134423
CREATED:20220829T183856Z
LAST-MODIFIED:20220928T043853Z
UID:150216-1664308800-1664316000@old.arizonachristian.edu
SUMMARY:Intramural Volleyball
DESCRIPTION:Intramural Sports will happen every Tuesday night from 8-10PM. \nLocation: Firestorm Recreation Center \nSign up here: https://www.imleagues.com/spa/portal/home
URL:https://old.arizonachristian.edu/event/intramural-volleyball-5/
END:VEVENT
BEGIN:VEVENT
DTSTART;VALUE=DATE:20220923
DTEND;VALUE=DATE:20220924
DTSTAMP:20260420T134423
CREATED:20220622T174311Z
LAST-MODIFIED:20220622T175233Z
UID:149499-1663891200-1663977599@old.arizonachristian.edu
SUMMARY:Last Day to Withdraw - Fall 1 Online
DESCRIPTION:
URL:https://old.arizonachristian.edu/event/last-day-to-withdraw-fall-1-online/
CATEGORIES:Fall Semester 2022
END:VEVENT
BEGIN:VEVENT
DTSTART;TZID=America/Phoenix:20220921T190000
DTEND;TZID=America/Phoenix:20220921T210000
DTSTAMP:20260420T134423
CREATED:20220906T225421Z
LAST-MODIFIED:20220922T033856Z
UID:150678-1663786800-1663794000@old.arizonachristian.edu
SUMMARY:CAB: Lip Sync or Swim
DESCRIPTION:Lip sync by yourself or in a group\, and see if you got what it takes to survive or dive!\nHosted by CAB.
URL:https://old.arizonachristian.edu/event/cab-lip-sync-or-swim/
LOCATION:Freedom and Liberty Pool
END:VEVENT
BEGIN:VEVENT
DTSTART;TZID=America/Phoenix:20220920T200000
DTEND;TZID=America/Phoenix:20220920T220000
DTSTAMP:20260420T134423
CREATED:20220829T183856Z
LAST-MODIFIED:20220921T042427Z
UID:150215-1663704000-1663711200@old.arizonachristian.edu
SUMMARY:Intramural Volleyball
DESCRIPTION:Intramural Sports will happen every Tuesday night from 8-10PM. \nLocation: Firestorm Recreation Center \nSign up here: https://www.imleagues.com/spa/portal/home
URL:https://old.arizonachristian.edu/event/intramural-volleyball-4/
END:VEVENT
BEGIN:VEVENT
DTSTART;TZID=America/Phoenix:20220917T110000
DTEND;TZID=America/Phoenix:20220917T130000
DTSTAMP:20260420T134423
CREATED:20220906T225420Z
LAST-MODIFIED:20220917T195448Z
UID:150676-1663412400-1663419600@old.arizonachristian.edu
SUMMARY:CAB: Constitution Day Event
DESCRIPTION:Celebrate Constitution Day with CAB and Turning Point USA the ACU Chapter.\nBill of Rights\, Prayer\, and Rootbeer Floats!
URL:https://old.arizonachristian.edu/event/cab-constitution-day-event/
LOCATION:BLDG 3000 | Student Union-1-THE TOWER LOUNGE (30)
END:VEVENT
BEGIN:VEVENT
DTSTART;TZID=America/Phoenix:20220915T173000
DTEND;TZID=America/Phoenix:20220915T183000
DTSTAMP:20260420T134423
CREATED:20220810T014555Z
LAST-MODIFIED:20220819T204335Z
UID:149941-1663263000-1663266600@old.arizonachristian.edu
SUMMARY:Online Studies Virtual Information Session
DESCRIPTION:Jeff Phillips \nACU Enrollment is hosting an Online Studies Virtual Information Session\, September 15 at 5:30 PM PST to 6:15 PM PST. The information session will cover the application process\, financial aid process\, programs\, and featured guest Professor Jeff Phillips. Professor Jeff Phillips will share the importance of the Bible minor in all our degree plans. \nOnline Studies Virtual Information Session\nSep 15\, 2022\, 05:30 PM Arizona/PST\nJoin Zoom Meeting: https://arizonachristian.zoom.us/j/86475594103?pwd=OGFEbGtLbzhmVXJ4L0IyUUtZNVUyQT09 \n\nMeeting ID: 864 7559 4103\nPasscode: 120525\nOne tap mobile:\n+16694449171\,\,86475594103#\nUS+16699006833\,\,86475594103# US (San Jose) \nDial by your location\n+1 669 444 9171 US\n+1 669 900 6833 US (San Jose)\n+1 719 359 4580 US\n+1 253 215 8782 US (Tacoma)\n+1 346 248 7799 US (Houston)\n+1 564 217 2000 US\n+1 646 558 8656 US (New York)\n+1 646 931 3860 US\n+1 301 715 8592 US (Washington DC)\n+1 309 205 3325 US\n+1 312 626 6799 US (Chicago)\n+1 386 347 5053 US\nMeeting ID: 864 7559 4103\nFind your local number: https://arizonachristian.zoom.us/u/kb7BgPb9Lh
URL:https://old.arizonachristian.edu/event/online-studies-virtual-information-session/
LOCATION:Virtual/Zoom
CATEGORIES:Enrollment,Special Events
END:VEVENT
BEGIN:VEVENT
DTSTART;TZID=America/Phoenix:20220913T200000
DTEND;TZID=America/Phoenix:20220913T220000
DTSTAMP:20260420T134423
CREATED:20220829T183856Z
LAST-MODIFIED:20220914T045410Z
UID:150214-1663099200-1663106400@old.arizonachristian.edu
SUMMARY:Intramural Volleyball
DESCRIPTION:Intramural Sports will happen every Tuesday night from 8-10PM. \nLocation: Firestorm Recreation Center \nSign up here: https://www.imleagues.com/spa/portal/home
URL:https://old.arizonachristian.edu/event/intramural-volleyball-3/
END:VEVENT
BEGIN:VEVENT
DTSTART;TZID=America/Phoenix:20220909T100000
DTEND;TZID=America/Phoenix:20220909T110000
DTSTAMP:20260420T134423
CREATED:20220901T200853Z
LAST-MODIFIED:20220909T173900Z
UID:150423-1662717600-1662721200@old.arizonachristian.edu
SUMMARY:Coffee & Careers
DESCRIPTION:Career Services is hosting an event to showcase our career platform Handshake!\nLocation: TC Commons Room
URL:https://old.arizonachristian.edu/event/coffee-careers/
LOCATION:BLDG 3200 | The Commons-1-RM-105 (80)
END:VEVENT
BEGIN:VEVENT
DTSTART;VALUE=DATE:20220909
DTEND;VALUE=DATE:20220910
DTSTAMP:20260420T134423
CREATED:20220622T174311Z
LAST-MODIFIED:20220622T175227Z
UID:149498-1662681600-1662767999@old.arizonachristian.edu
SUMMARY:Fall Semester Census Day at 5:00pm
DESCRIPTION:
URL:https://old.arizonachristian.edu/event/fall-semester-census-day-at-500pm/
CATEGORIES:Fall Semester 2022
END:VEVENT
BEGIN:VEVENT
DTSTART;TZID=America/Phoenix:20220907T183000
DTEND;TZID=America/Phoenix:20220907T203000
DTSTAMP:20260420T134423
CREATED:20220901T200852Z
LAST-MODIFIED:20220908T032359Z
UID:150421-1662575400-1662582600@old.arizonachristian.edu
SUMMARY:CAB: Paint Your Own Object
DESCRIPTION:Bring your own object to paint! Hosted by CAB and Created to Create.\nLocation: Tower Patio
URL:https://old.arizonachristian.edu/event/cab-paint-your-own-object/
END:VEVENT
BEGIN:VEVENT
DTSTART;TZID=America/Phoenix:20220906T200000
DTEND;TZID=America/Phoenix:20220906T220000
DTSTAMP:20260420T134423
CREATED:20220829T183856Z
LAST-MODIFIED:20220907T043933Z
UID:150213-1662494400-1662501600@old.arizonachristian.edu
SUMMARY:Intramural Volleyball
DESCRIPTION:Intramural Sports will happen every Tuesday night from 8-10PM. \nLocation: Firestorm Recreation Center \nSign up here: https://www.imleagues.com/spa/portal/home
URL:https://old.arizonachristian.edu/event/intramural-volleyball-2/
END:VEVENT
BEGIN:VEVENT
DTSTART;VALUE=DATE:20220905
DTEND;VALUE=DATE:20220906
DTSTAMP:20260420T134423
CREATED:20220622T174311Z
LAST-MODIFIED:20220622T175216Z
UID:149497-1662336000-1662422399@old.arizonachristian.edu
SUMMARY:Last day to Enroll/Unenroll from ACU - Fall 1 Online
DESCRIPTION:
URL:https://old.arizonachristian.edu/event/last-day-to-enroll-unenroll-from-acu-fall-1-online/
CATEGORIES:Fall Semester 2022
END:VEVENT
BEGIN:VEVENT
DTSTART;VALUE=DATE:20220905
DTEND;VALUE=DATE:20220906
DTSTAMP:20260420T134423
CREATED:20220622T174311Z
LAST-MODIFIED:20220622T175221Z
UID:149496-1662336000-1662422399@old.arizonachristian.edu
SUMMARY:Labor Day (No campus classes\, Offices closed)
DESCRIPTION:
URL:https://old.arizonachristian.edu/event/labor-day-no-campus-classes-offices-closed/
CATEGORIES:Fall Semester 2022
END:VEVENT
BEGIN:VEVENT
DTSTART;VALUE=DATE:20220905
DTEND;VALUE=DATE:20220906
DTSTAMP:20260420T134423
CREATED:20220622T174310Z
LAST-MODIFIED:20220622T175210Z
UID:149495-1662336000-1662422399@old.arizonachristian.edu
SUMMARY:Course Add/Drop Deadline - Fall 1 Online
DESCRIPTION:
URL:https://old.arizonachristian.edu/event/course-add-drop-deadline-fall-1-online/
CATEGORIES:Fall Semester 2022
END:VEVENT
END:VCALENDAR