BEGIN:VCALENDAR
VERSION:2.0
PRODID:-//Arizona Christian University - ECPv6.4.0.1//NONSGML v1.0//EN
CALSCALE:GREGORIAN
METHOD:PUBLISH
X-WR-CALNAME:Arizona Christian University
X-ORIGINAL-URL:https://old.arizonachristian.edu
X-WR-CALDESC:Events for Arizona Christian University
REFRESH-INTERVAL;VALUE=DURATION:PT1H
X-Robots-Tag:noindex
X-PUBLISHED-TTL:PT1H
BEGIN:VTIMEZONE
TZID:US/Pacific
BEGIN:DAYLIGHT
TZOFFSETFROM:-0800
TZOFFSETTO:-0700
TZNAME:PDT
DTSTART:20220313T100000
END:DAYLIGHT
BEGIN:STANDARD
TZOFFSETFROM:-0700
TZOFFSETTO:-0800
TZNAME:PST
DTSTART:20221106T090000
END:STANDARD
TZID:America/Phoenix
BEGIN:STANDARD
TZOFFSETFROM:-0700
TZOFFSETTO:-0700
TZNAME:MST
DTSTART:20220101T000000
END:STANDARD
TZID:Africa/Abidjan
BEGIN:STANDARD
TZOFFSETFROM:+0000
TZOFFSETTO:+0000
TZNAME:GMT
DTSTART:20220101T000000
END:STANDARD
END:VTIMEZONE
BEGIN:VEVENT
DTSTART;VALUE=DATE:20220909
DTEND;VALUE=DATE:20220910
DTSTAMP:20260420T165533
CREATED:20220622T174311Z
LAST-MODIFIED:20220622T175227Z
UID:149498-1662681600-1662767999@old.arizonachristian.edu
SUMMARY:Fall Semester Census Day at 5:00pm
DESCRIPTION:
URL:https://old.arizonachristian.edu/event/fall-semester-census-day-at-500pm/
CATEGORIES:Fall Semester 2022
END:VEVENT
BEGIN:VEVENT
DTSTART;TZID=America/Phoenix:20220907T183000
DTEND;TZID=America/Phoenix:20220907T203000
DTSTAMP:20260420T165533
CREATED:20220901T200852Z
LAST-MODIFIED:20220908T032359Z
UID:150421-1662575400-1662582600@old.arizonachristian.edu
SUMMARY:CAB: Paint Your Own Object
DESCRIPTION:Bring your own object to paint! Hosted by CAB and Created to Create.\nLocation: Tower Patio
URL:https://old.arizonachristian.edu/event/cab-paint-your-own-object/
END:VEVENT
BEGIN:VEVENT
DTSTART;TZID=America/Phoenix:20220906T200000
DTEND;TZID=America/Phoenix:20220906T220000
DTSTAMP:20260420T165533
CREATED:20220829T183856Z
LAST-MODIFIED:20220907T043933Z
UID:150213-1662494400-1662501600@old.arizonachristian.edu
SUMMARY:Intramural Volleyball
DESCRIPTION:Intramural Sports will happen every Tuesday night from 8-10PM. \nLocation: Firestorm Recreation Center \nSign up here: https://www.imleagues.com/spa/portal/home
URL:https://old.arizonachristian.edu/event/intramural-volleyball-2/
END:VEVENT
BEGIN:VEVENT
DTSTART;VALUE=DATE:20220905
DTEND;VALUE=DATE:20220906
DTSTAMP:20260420T165533
CREATED:20220622T174311Z
LAST-MODIFIED:20220622T175221Z
UID:149496-1662336000-1662422399@old.arizonachristian.edu
SUMMARY:Labor Day (No campus classes\, Offices closed)
DESCRIPTION:
URL:https://old.arizonachristian.edu/event/labor-day-no-campus-classes-offices-closed/
CATEGORIES:Fall Semester 2022
END:VEVENT
BEGIN:VEVENT
DTSTART;VALUE=DATE:20220905
DTEND;VALUE=DATE:20220906
DTSTAMP:20260420T165533
CREATED:20220622T174311Z
LAST-MODIFIED:20220622T175216Z
UID:149497-1662336000-1662422399@old.arizonachristian.edu
SUMMARY:Last day to Enroll/Unenroll from ACU - Fall 1 Online
DESCRIPTION:
URL:https://old.arizonachristian.edu/event/last-day-to-enroll-unenroll-from-acu-fall-1-online/
CATEGORIES:Fall Semester 2022
END:VEVENT
BEGIN:VEVENT
DTSTART;VALUE=DATE:20220905
DTEND;VALUE=DATE:20220906
DTSTAMP:20260420T165533
CREATED:20220622T174310Z
LAST-MODIFIED:20220622T175210Z
UID:149495-1662336000-1662422399@old.arizonachristian.edu
SUMMARY:Course Add/Drop Deadline - Fall 1 Online
DESCRIPTION:
URL:https://old.arizonachristian.edu/event/course-add-drop-deadline-fall-1-online/
CATEGORIES:Fall Semester 2022
END:VEVENT
BEGIN:VEVENT
DTSTART;TZID=America/Phoenix:20220903T173000
DTEND;TZID=America/Phoenix:20220903T183000
DTSTAMP:20260420T165533
CREATED:20220829T183856Z
LAST-MODIFIED:20220904T012353Z
UID:150212-1662226200-1662229800@old.arizonachristian.edu
SUMMARY:Ring of Fire: Pre Game Party
DESCRIPTION:Location: tower Lawn \nJoin us for a pre game party before we fill up the bleachers at the football game.
URL:https://old.arizonachristian.edu/event/ring-of-fire-pre-game-party/
LOCATION:SPEC 0000 | Athletic Fields-1-FLD-SOCCER (100)
END:VEVENT
BEGIN:VEVENT
DTSTART;VALUE=DATE:20220902
DTEND;VALUE=DATE:20220903
DTSTAMP:20260420T165533
CREATED:20220622T174310Z
LAST-MODIFIED:20220622T175156Z
UID:149493-1662076800-1662163199@old.arizonachristian.edu
SUMMARY:Deadline for Independent Study/Internship Application - Fall Tradtional
DESCRIPTION:
URL:https://old.arizonachristian.edu/event/deadline-for-independent-study-internship-application-fall-tradtional/
CATEGORIES:Fall Semester 2022
END:VEVENT
BEGIN:VEVENT
DTSTART;VALUE=DATE:20220902
DTEND;VALUE=DATE:20220903
DTSTAMP:20260420T165533
CREATED:20220622T174310Z
LAST-MODIFIED:20220622T175149Z
UID:149494-1662076800-1662163199@old.arizonachristian.edu
SUMMARY:Last day to Enroll/Unenroll from ACU - Fall Traditional
DESCRIPTION:
URL:https://old.arizonachristian.edu/event/last-day-to-enroll-unenroll-from-acu-fall-traditional/
CATEGORIES:Fall Semester 2022
END:VEVENT
BEGIN:VEVENT
DTSTART;VALUE=DATE:20220902
DTEND;VALUE=DATE:20220903
DTSTAMP:20260420T165533
CREATED:20220622T174310Z
LAST-MODIFIED:20220622T175202Z
UID:149492-1662076800-1662163199@old.arizonachristian.edu
SUMMARY:Deadline for Independent Study/Internship Application - Fall 1 Online
DESCRIPTION:
URL:https://old.arizonachristian.edu/event/deadline-for-independent-study-internship-application-fall-1-online/
CATEGORIES:Fall Semester 2022
END:VEVENT
BEGIN:VEVENT
DTSTART;VALUE=DATE:20220902
DTEND;VALUE=DATE:20220903
DTSTAMP:20260420T165533
CREATED:20220622T174309Z
LAST-MODIFIED:20220622T175142Z
UID:149491-1662076800-1662163199@old.arizonachristian.edu
SUMMARY:Course Add/Drop Deadline - Fall Traditional
DESCRIPTION:
URL:https://old.arizonachristian.edu/event/course-add-drop-deadline-fall-traditional/
CATEGORIES:Fall Semester 2022
END:VEVENT
BEGIN:VEVENT
DTSTART;TZID=America/Phoenix:20220901T200000
DTEND;TZID=America/Phoenix:20220902T200000
DTSTAMP:20260420T165533
CREATED:20220831T012408Z
LAST-MODIFIED:20220903T023941Z
UID:150338-1662062400-1662148800@old.arizonachristian.edu
SUMMARY:Spiritual Life: Ignite
DESCRIPTION:24 Hours of Prayer and Worship!\nLocation: King Auditorium in the Music Building.\nAll students are welcome.
URL:https://old.arizonachristian.edu/event/spiritual-life-ignite/
END:VEVENT
BEGIN:VEVENT
DTSTART;TZID=America/Phoenix:20220831T193000
DTEND;TZID=America/Phoenix:20220831T210000
DTSTAMP:20260420T165533
CREATED:20220829T183856Z
LAST-MODIFIED:20220901T033857Z
UID:150210-1661974200-1661979600@old.arizonachristian.edu
SUMMARY:CAB: Hide and Glow Seek
DESCRIPTION:Hide and Glow Seek hosted by CAB and Residence Life.\nLocation: ACU Pavilion
URL:https://old.arizonachristian.edu/event/cab-hide-and-glow-seek/
END:VEVENT
BEGIN:VEVENT
DTSTART;TZID=America/Phoenix:20220830T200000
DTEND;TZID=America/Phoenix:20220830T220000
DTSTAMP:20260420T165533
CREATED:20220829T183855Z
LAST-MODIFIED:20220831T045400Z
UID:150209-1661889600-1661896800@old.arizonachristian.edu
SUMMARY:Intramural Volleyball
DESCRIPTION:Intramural Sports will happen every Tuesday night from 8-10PM. \nLocation: Firestorm Recreation Center \nSign up here: https://www.imleagues.com/spa/portal/home
URL:https://old.arizonachristian.edu/event/intramural-volleyball/
END:VEVENT
BEGIN:VEVENT
DTSTART;TZID=America/Phoenix:20220829T190000
DTEND;TZID=America/Phoenix:20220829T203000
DTSTAMP:20260420T165533
CREATED:20220829T183855Z
LAST-MODIFIED:20220830T032355Z
UID:150208-1661799600-1661805000@old.arizonachristian.edu
SUMMARY:Club Fair
DESCRIPTION:Come to the Event Center at 7PM to check out the various clubs on campus.\nOpen to all students
URL:https://old.arizonachristian.edu/event/club-fair/
LOCATION:BLDG 1000 | Event Center-1-EC-1000 (250)
END:VEVENT
BEGIN:VEVENT
DTSTART;VALUE=DATE:20220829
DTEND;VALUE=DATE:20220830
DTSTAMP:20260420T165533
CREATED:20220622T174309Z
LAST-MODIFIED:20220622T175136Z
UID:149490-1661731200-1661817599@old.arizonachristian.edu
SUMMARY:Classes Begin - Fall 1 Online
DESCRIPTION:
URL:https://old.arizonachristian.edu/event/classes-begin-fall-1-online/
CATEGORIES:Fall Semester 2022
END:VEVENT
BEGIN:VEVENT
DTSTART;TZID=America/Phoenix:20220825T180000
DTEND;TZID=America/Phoenix:20220825T210000
DTSTAMP:20260420T165533
CREATED:20220825T190423Z
LAST-MODIFIED:20220826T033908Z
UID:150020-1661450400-1661461200@old.arizonachristian.edu
SUMMARY:Let's Glow Crazy!
DESCRIPTION:
URL:https://old.arizonachristian.edu/event/lets-glow-crazy/
LOCATION:BLDG 2300 | Student Success Center Building-1-2300-PAVILION (50)
CATEGORIES:Student Engagement
END:VEVENT
BEGIN:VEVENT
DTSTART;VALUE=DATE:20220822
DTEND;VALUE=DATE:20220827
DTSTAMP:20260420T165533
CREATED:20220622T174309Z
LAST-MODIFIED:20220622T175130Z
UID:149478-1661126400-1661558399@old.arizonachristian.edu
SUMMARY:Fall Semester Welcome Week (Campus)
DESCRIPTION:
URL:https://old.arizonachristian.edu/event/fall-semester-welcome-week-campus/
CATEGORIES:Fall Semester 2022
END:VEVENT
BEGIN:VEVENT
DTSTART;VALUE=DATE:20220822
DTEND;VALUE=DATE:20220823
DTSTAMP:20260420T165533
CREATED:20220622T174309Z
LAST-MODIFIED:20220622T175123Z
UID:149489-1661126400-1661212799@old.arizonachristian.edu
SUMMARY:Classes Begin - Fall Traditional
DESCRIPTION:
URL:https://old.arizonachristian.edu/event/classes-begin-fall-traditional/
CATEGORIES:Fall Semester 2022
END:VEVENT
BEGIN:VEVENT
DTSTART;VALUE=DATE:20220822
DTEND;VALUE=DATE:20220823
DTSTAMP:20260420T165533
CREATED:20220622T174308Z
LAST-MODIFIED:20220622T175117Z
UID:149477-1661126400-1661212799@old.arizonachristian.edu
SUMMARY:Payment in Full or Payment Plans Established - Fall 1 Online
DESCRIPTION:
URL:https://old.arizonachristian.edu/event/payment-in-full-or-payment-plans-established-fall-1-online/
CATEGORIES:Fall Semester 2022
END:VEVENT
BEGIN:VEVENT
DTSTART;VALUE=DATE:20220820
DTEND;VALUE=DATE:20220821
DTSTAMP:20260420T165533
CREATED:20220622T174308Z
LAST-MODIFIED:20220622T175106Z
UID:149476-1660953600-1661039999@old.arizonachristian.edu
SUMMARY:Returning Student Check-in
DESCRIPTION:
URL:https://old.arizonachristian.edu/event/returning-student-check-in/
CATEGORIES:Fall Semester 2022
END:VEVENT
BEGIN:VEVENT
DTSTART;VALUE=DATE:20220819
DTEND;VALUE=DATE:20220820
DTSTAMP:20260420T165533
CREATED:20220622T174308Z
LAST-MODIFIED:20220622T175058Z
UID:149475-1660867200-1660953599@old.arizonachristian.edu
SUMMARY:New Student: Orientation
DESCRIPTION:
URL:https://old.arizonachristian.edu/event/new-student-orientation/
CATEGORIES:Fall Semester 2022
END:VEVENT
BEGIN:VEVENT
DTSTART;VALUE=DATE:20220818
DTEND;VALUE=DATE:20220819
DTSTAMP:20260420T165533
CREATED:20220622T174308Z
LAST-MODIFIED:20220622T175049Z
UID:149474-1660780800-1660867199@old.arizonachristian.edu
SUMMARY:New Student: Check-in
DESCRIPTION:
URL:https://old.arizonachristian.edu/event/new-student-check-in/
CATEGORIES:Fall Semester 2022
END:VEVENT
BEGIN:VEVENT
DTSTART;TZID=America/Phoenix:20220816T150000
DTEND;TZID=America/Phoenix:20220816T170000
DTSTAMP:20260420T165533
CREATED:20220810T013130Z
LAST-MODIFIED:20220810T013605Z
UID:149936-1660662000-1660669200@old.arizonachristian.edu
SUMMARY:Clue Auditions
DESCRIPTION:Clue Auditions Promotional Flier
URL:https://old.arizonachristian.edu/event/clue-auditions-2/
LOCATION:King Auditorium
CATEGORIES:Special Events,Student Engagement
ORGANIZER;CN="Andres Marrufo":MAILTO:andres-marrufo@arizonachristian.edu
END:VEVENT
BEGIN:VEVENT
DTSTART;TZID=America/Phoenix:20220815T150000
DTEND;TZID=America/Phoenix:20220815T170000
DTSTAMP:20260420T165533
CREATED:20220810T012817Z
LAST-MODIFIED:20220810T013711Z
UID:149930-1660575600-1660582800@old.arizonachristian.edu
SUMMARY:Clue Auditions
DESCRIPTION:Clue Auditions Promotional Flier
URL:https://old.arizonachristian.edu/event/clue-auditions/
LOCATION:King Auditorium
CATEGORIES:Special Events,Student Engagement
ORGANIZER;CN="Andres Marrufo":MAILTO:andres-marrufo@arizonachristian.edu
END:VEVENT
BEGIN:VEVENT
DTSTART;VALUE=DATE:20220808
DTEND;VALUE=DATE:20220809
DTSTAMP:20260420T165533
CREATED:20220622T174307Z
LAST-MODIFIED:20220622T175042Z
UID:149473-1659916800-1660003199@old.arizonachristian.edu
SUMMARY:Payment in Full or Payment Plans Established - Fall Traditional
DESCRIPTION:
URL:https://old.arizonachristian.edu/event/payment-in-full-or-payment-plans-established-fall-traditional/
CATEGORIES:Fall Semester 2022
END:VEVENT
BEGIN:VEVENT
DTSTART;VALUE=DATE:20220804
DTEND;VALUE=DATE:20220806
DTSTAMP:20260420T165533
CREATED:20220622T174307Z
LAST-MODIFIED:20220623T175621Z
UID:149472-1659571200-1659743999@old.arizonachristian.edu
SUMMARY:Fall Sports Student-Athlete Check-in
DESCRIPTION:
URL:https://old.arizonachristian.edu/event/fall-sports-student-athlete-check-in/
CATEGORIES:Fall Semester 2022
END:VEVENT
BEGIN:VEVENT
DTSTART;VALUE=DATE:20220716
DTEND;VALUE=DATE:20220717
DTSTAMP:20260420T165533
CREATED:20220622T174307Z
LAST-MODIFIED:20220622T175032Z
UID:149471-1657929600-1658015999@old.arizonachristian.edu
SUMMARY:Firestorm Orientation
DESCRIPTION:
URL:https://old.arizonachristian.edu/event/firestorm-orientation-2/
CATEGORIES:Fall Semester 2022
END:VEVENT
BEGIN:VEVENT
DTSTART;VALUE=DATE:20220701
DTEND;VALUE=DATE:20220702
DTSTAMP:20260420T165533
CREATED:20220622T174306Z
LAST-MODIFIED:20220622T175024Z
UID:149470-1656633600-1656719999@old.arizonachristian.edu
SUMMARY:Deadline for International Applications (Campus)
DESCRIPTION:
URL:https://old.arizonachristian.edu/event/deadline-for-international-applications-campus/
CATEGORIES:Fall Semester 2022
END:VEVENT
BEGIN:VEVENT
DTSTART;VALUE=DATE:20220617
DTEND;VALUE=DATE:20220618
DTSTAMP:20260420T165533
CREATED:20220622T174306Z
LAST-MODIFIED:20220623T174843Z
UID:149469-1655424000-1655510399@old.arizonachristian.edu
SUMMARY:Firestorm Orientation
DESCRIPTION:
URL:https://old.arizonachristian.edu/event/firestorm-orientation/
CATEGORIES:Fall Semester 2022
END:VEVENT
END:VCALENDAR