BEGIN:VCALENDAR
VERSION:2.0
PRODID:-//Arizona Christian University - ECPv6.4.0.1//NONSGML v1.0//EN
CALSCALE:GREGORIAN
METHOD:PUBLISH
X-WR-CALNAME:Arizona Christian University
X-ORIGINAL-URL:https://old.arizonachristian.edu
X-WR-CALDESC:Events for Arizona Christian University
REFRESH-INTERVAL;VALUE=DURATION:PT1H
X-Robots-Tag:noindex
X-PUBLISHED-TTL:PT1H
BEGIN:VTIMEZONE
TZID:America/Phoenix
BEGIN:STANDARD
TZOFFSETFROM:-0700
TZOFFSETTO:-0700
TZNAME:MST
DTSTART:20230101T000000
END:STANDARD
END:VTIMEZONE
BEGIN:VEVENT
DTSTART;VALUE=DATE:20230728
DTEND;VALUE=DATE:20230729
DTSTAMP:20260419T130727
CREATED:20220623T181354Z
LAST-MODIFIED:20220623T181354Z
UID:149647-1690502400-1690588799@old.arizonachristian.edu
SUMMARY:Last Day to Withdraw - Summer Traditional
DESCRIPTION:
URL:https://old.arizonachristian.edu/event/last-day-to-withdraw-summer-traditional/
CATEGORIES:Summer Sessions 2023
END:VEVENT
BEGIN:VEVENT
DTSTART;VALUE=DATE:20230710
DTEND;VALUE=DATE:20230711
DTSTAMP:20260419T130727
CREATED:20220623T181246Z
LAST-MODIFIED:20220623T181246Z
UID:149641-1688947200-1689033599@old.arizonachristian.edu
SUMMARY:Last Day to Register/Unenroll from ACU - Summer 2 Online
DESCRIPTION:
URL:https://old.arizonachristian.edu/event/last-day-to-register-unenroll-from-acu-summer-2-online/
CATEGORIES:Summer Sessions 2023
END:VEVENT
BEGIN:VEVENT
DTSTART;VALUE=DATE:20230710
DTEND;VALUE=DATE:20230711
DTSTAMP:20260419T130727
CREATED:20220623T181245Z
LAST-MODIFIED:20220623T181245Z
UID:149638-1688947200-1689033599@old.arizonachristian.edu
SUMMARY:Course Add/Drop Deadline - Summer 2 Online
DESCRIPTION:
URL:https://old.arizonachristian.edu/event/course-add-drop-deadline-summer-2-online/
CATEGORIES:Summer Sessions 2023
END:VEVENT
BEGIN:VEVENT
DTSTART;VALUE=DATE:20230708
DTEND;VALUE=DATE:20230709
DTSTAMP:20260419T130727
CREATED:20220623T181644Z
LAST-MODIFIED:20220623T181644Z
UID:149657-1688774400-1688860799@old.arizonachristian.edu
SUMMARY:Grades posted to academic records (Populi) -  Summer 1 Online
DESCRIPTION:
URL:https://old.arizonachristian.edu/event/grades-posted-to-academic-records-populi-summer-1-online/
CATEGORIES:Summer Sessions 2023
END:VEVENT
BEGIN:VEVENT
DTSTART;VALUE=DATE:20230707
DTEND;VALUE=DATE:20230708
DTSTAMP:20260419T130727
CREATED:20220623T181643Z
LAST-MODIFIED:20220623T181643Z
UID:149654-1688688000-1688774399@old.arizonachristian.edu
SUMMARY:Final Grades Due by 5:00pm (Canvas) -  Summer 1 Online
DESCRIPTION:
URL:https://old.arizonachristian.edu/event/final-grades-due-by-500pm-canvas-summer-1-online/
CATEGORIES:Summer Sessions 2023
END:VEVENT
BEGIN:VEVENT
DTSTART;VALUE=DATE:20230707
DTEND;VALUE=DATE:20230708
DTSTAMP:20260419T130727
CREATED:20220623T181353Z
LAST-MODIFIED:20220623T181353Z
UID:149644-1688688000-1688774399@old.arizonachristian.edu
SUMMARY:Deadline for Independent Study/Internship Application - Summer 2 Online
DESCRIPTION:
URL:https://old.arizonachristian.edu/event/deadline-for-independent-study-internship-application-summer-2-online/
CATEGORIES:Summer Sessions 2023
END:VEVENT
BEGIN:VEVENT
DTSTART;VALUE=DATE:20230704
DTEND;VALUE=DATE:20230705
DTSTAMP:20260419T130727
CREATED:20220623T181354Z
LAST-MODIFIED:20220623T181354Z
UID:149646-1688428800-1688515199@old.arizonachristian.edu
SUMMARY:Independence Day (No Classes\, Offices Closed)
DESCRIPTION:
URL:https://old.arizonachristian.edu/event/independence-day-no-classes-offices-closed/
CATEGORIES:Summer Sessions 2023
END:VEVENT
BEGIN:VEVENT
DTSTART;VALUE=DATE:20230703
DTEND;VALUE=DATE:20230704
DTSTAMP:20260419T130727
CREATED:20220623T181231Z
LAST-MODIFIED:20220623T181231Z
UID:149635-1688342400-1688428799@old.arizonachristian.edu
SUMMARY:Classes Begin - Summer 2 Online
DESCRIPTION:
URL:https://old.arizonachristian.edu/event/classes-begin-summer-2-online/
CATEGORIES:Summer Sessions 2023
END:VEVENT
BEGIN:VEVENT
DTSTART;VALUE=DATE:20230702
DTEND;VALUE=DATE:20230703
DTSTAMP:20260419T130727
CREATED:20220623T181544Z
LAST-MODIFIED:20220623T181544Z
UID:149651-1688256000-1688342399@old.arizonachristian.edu
SUMMARY:Last Day of Scheduled Class - Summer 1 Online
DESCRIPTION:
URL:https://old.arizonachristian.edu/event/last-day-of-scheduled-class-summer-1-online/
CATEGORIES:Summer Sessions 2023
END:VEVENT
BEGIN:VEVENT
DTSTART;VALUE=DATE:20230626
DTEND;VALUE=DATE:20230627
DTSTAMP:20260419T130727
CREATED:20220623T181130Z
LAST-MODIFIED:20220623T181130Z
UID:149631-1687737600-1687823999@old.arizonachristian.edu
SUMMARY:Payments due in Full - Summer 2 Online
DESCRIPTION:
URL:https://old.arizonachristian.edu/event/payments-due-in-full-summer-2-online/
CATEGORIES:Summer Sessions 2023
END:VEVENT
BEGIN:VEVENT
DTSTART;VALUE=DATE:20230618
DTEND;VALUE=DATE:20230619
DTSTAMP:20260419T130727
CREATED:20220623T180135Z
LAST-MODIFIED:20220623T180135Z
UID:149613-1687046400-1687132799@old.arizonachristian.edu
SUMMARY:Last Day to Complete an Incomplete Course -  Spring 2 Online
DESCRIPTION:
URL:https://old.arizonachristian.edu/event/last-day-to-complete-an-incomplete-course-spring-2-online/
CATEGORIES:Spring Semester 2023
END:VEVENT
BEGIN:VEVENT
DTSTART;VALUE=DATE:20230616
DTEND;VALUE=DATE:20230617
DTSTAMP:20260419T130727
CREATED:20220623T180126Z
LAST-MODIFIED:20220623T180126Z
UID:149611-1686873600-1686959999@old.arizonachristian.edu
SUMMARY:Last Day to Complete an Incomplete Course - Traditional Spring Traditional
DESCRIPTION:
URL:https://old.arizonachristian.edu/event/last-day-to-complete-an-incomplete-course-traditional-spring-traditional/
END:VEVENT
BEGIN:VEVENT
DTSTART;VALUE=DATE:20230602
DTEND;VALUE=DATE:20230603
DTSTAMP:20260419T130727
CREATED:20220623T181543Z
LAST-MODIFIED:20220623T181543Z
UID:149648-1685664000-1685750399@old.arizonachristian.edu
SUMMARY:Last Day to Withdraw - Summer 1 Online
DESCRIPTION:
URL:https://old.arizonachristian.edu/event/last-day-to-withdraw-summer-1-online/
CATEGORIES:Summer Sessions 2023
END:VEVENT
BEGIN:VEVENT
DTSTART;VALUE=DATE:20230531
DTEND;VALUE=DATE:20230601
DTSTAMP:20260419T130727
CREATED:20220623T180136Z
LAST-MODIFIED:20220623T180136Z
UID:149615-1685491200-1685577599@old.arizonachristian.edu
SUMMARY:Diplomas ready for pickup/mailed - Spring Semester
DESCRIPTION:
URL:https://old.arizonachristian.edu/event/diplomas-ready-for-pickup-mailed-spring-semester/
CATEGORIES:Spring Semester 2023
END:VEVENT
BEGIN:VEVENT
DTSTART;VALUE=DATE:20230529
DTEND;VALUE=DATE:20230530
DTSTAMP:20260419T130727
CREATED:20220623T181353Z
LAST-MODIFIED:20220623T181353Z
UID:149645-1685318400-1685404799@old.arizonachristian.edu
SUMMARY:Memorial Day (No Classes\, Offices Closed)
DESCRIPTION:
URL:https://old.arizonachristian.edu/event/memorial-day-no-classes-offices-closed/
CATEGORIES:Summer Sessions 2023
END:VEVENT
BEGIN:VEVENT
DTSTART;VALUE=DATE:20230524
DTEND;VALUE=DATE:20230525
DTSTAMP:20260419T130727
CREATED:20220623T180135Z
LAST-MODIFIED:20220623T180135Z
UID:149614-1684886400-1684972799@old.arizonachristian.edu
SUMMARY:Degree Conferred for Completers - Spring Semester
DESCRIPTION:
URL:https://old.arizonachristian.edu/event/degree-conferred-for-completers-spring-semester/
CATEGORIES:Spring Semester 2023
END:VEVENT
BEGIN:VEVENT
DTSTART;VALUE=DATE:20230519
DTEND;VALUE=DATE:20230520
DTSTAMP:20260419T130727
CREATED:20220623T181246Z
LAST-MODIFIED:20220623T181246Z
UID:149639-1684454400-1684540799@old.arizonachristian.edu
SUMMARY:Last Day to Register/Unenroll from ACU - Summer Traditional
DESCRIPTION:
URL:https://old.arizonachristian.edu/event/last-day-to-register-unenroll-from-acu-summer-traditional/
CATEGORIES:Summer Sessions 2023
END:VEVENT
BEGIN:VEVENT
DTSTART;VALUE=DATE:20230519
DTEND;VALUE=DATE:20230520
DTSTAMP:20260419T130727
CREATED:20220623T181246Z
LAST-MODIFIED:20220623T181246Z
UID:149642-1684454400-1684540799@old.arizonachristian.edu
SUMMARY:Deadline for Independent Study/Internship Application - Summer Traditional
DESCRIPTION:
URL:https://old.arizonachristian.edu/event/deadline-for-independent-study-internship-application-summer-traditional/
CATEGORIES:Summer Sessions 2023
END:VEVENT
BEGIN:VEVENT
DTSTART;VALUE=DATE:20230519
DTEND;VALUE=DATE:20230520
DTSTAMP:20260419T130727
CREATED:20220623T181232Z
LAST-MODIFIED:20220623T181232Z
UID:149636-1684454400-1684540799@old.arizonachristian.edu
SUMMARY:Course Add/Drop Deadline - Summer Traditional
DESCRIPTION:
URL:https://old.arizonachristian.edu/event/course-add-drop-deadline-summer-traditional/
CATEGORIES:Summer Sessions 2023
END:VEVENT
BEGIN:VEVENT
DTSTART;VALUE=DATE:20230515
DTEND;VALUE=DATE:20230516
DTSTAMP:20260419T130727
CREATED:20220623T181246Z
LAST-MODIFIED:20220623T181246Z
UID:149640-1684108800-1684195199@old.arizonachristian.edu
SUMMARY:Last Day to Register/Unenroll from ACU - Summer 1 Online
DESCRIPTION:
URL:https://old.arizonachristian.edu/event/last-day-to-register-unenroll-from-acu-summer-1-online/
CATEGORIES:Summer Sessions 2023
END:VEVENT
BEGIN:VEVENT
DTSTART;VALUE=DATE:20230515
DTEND;VALUE=DATE:20230516
DTSTAMP:20260419T130727
CREATED:20220623T181232Z
LAST-MODIFIED:20220623T181232Z
UID:149637-1684108800-1684195199@old.arizonachristian.edu
SUMMARY:Course Add/Drop Deadline - Summer 1 Online
DESCRIPTION:
URL:https://old.arizonachristian.edu/event/course-add-drop-deadline-summer-1-online/
CATEGORIES:Summer Sessions 2023
END:VEVENT
BEGIN:VEVENT
DTSTART;VALUE=DATE:20230513
DTEND;VALUE=DATE:20230514
DTSTAMP:20260419T130727
CREATED:20220623T180126Z
LAST-MODIFIED:20220623T180126Z
UID:149610-1683936000-1684022399@old.arizonachristian.edu
SUMMARY:Grades posted to academic records (Populi) -  Spring 2 Online
DESCRIPTION:
URL:https://old.arizonachristian.edu/event/grades-posted-to-academic-records-populi-spring-2-online/
END:VEVENT
BEGIN:VEVENT
DTSTART;VALUE=DATE:20230513
DTEND;VALUE=DATE:20230514
DTSTAMP:20260419T130727
CREATED:20220623T180126Z
LAST-MODIFIED:20220623T180126Z
UID:149608-1683936000-1684022399@old.arizonachristian.edu
SUMMARY:Grades posted to academic records (Populi) -  Spring Traditional
DESCRIPTION:
URL:https://old.arizonachristian.edu/event/grades-posted-to-academic-records-populi-spring-traditional/
END:VEVENT
BEGIN:VEVENT
DTSTART;VALUE=DATE:20230512
DTEND;VALUE=DATE:20230513
DTSTAMP:20260419T130727
CREATED:20220623T181353Z
LAST-MODIFIED:20220623T181353Z
UID:149643-1683849600-1683935999@old.arizonachristian.edu
SUMMARY:Deadline for Independent Study/Internship Application - Summer 1 Online
DESCRIPTION:
URL:https://old.arizonachristian.edu/event/deadline-for-independent-study-internship-application-summer-1-online/
CATEGORIES:Summer Sessions 2023
END:VEVENT
BEGIN:VEVENT
DTSTART;VALUE=DATE:20230512
DTEND;VALUE=DATE:20230513
DTSTAMP:20260419T130727
CREATED:20220623T180125Z
LAST-MODIFIED:20220623T180125Z
UID:149607-1683849600-1683935999@old.arizonachristian.edu
SUMMARY:Final Grades Due by 5:00pm (Canvas) -  Spring 2 Online
DESCRIPTION:
URL:https://old.arizonachristian.edu/event/final-grades-due-by-500pm-canvas-spring-2-online/
END:VEVENT
BEGIN:VEVENT
DTSTART;VALUE=DATE:20230512
DTEND;VALUE=DATE:20230513
DTSTAMP:20260419T130727
CREATED:20220623T180120Z
LAST-MODIFIED:20220623T180120Z
UID:149605-1683849600-1683935999@old.arizonachristian.edu
SUMMARY:Final Grades Due by 5:00pm (Canvas) -  Spring Traditional
DESCRIPTION:
URL:https://old.arizonachristian.edu/event/final-grades-due-by-500pm-canvas-spring-traditional/
CATEGORIES:Spring Semester 2023
END:VEVENT
BEGIN:VEVENT
DTSTART;VALUE=DATE:20230508
DTEND;VALUE=DATE:20230509
DTSTAMP:20260419T130727
CREATED:20220623T181231Z
LAST-MODIFIED:20220623T181231Z
UID:149634-1683504000-1683590399@old.arizonachristian.edu
SUMMARY:Classes Begin - Summer 1 Online
DESCRIPTION:
URL:https://old.arizonachristian.edu/event/classes-begin-summer-1-online/
CATEGORIES:Summer Sessions 2023
END:VEVENT
BEGIN:VEVENT
DTSTART;VALUE=DATE:20230508
DTEND;VALUE=DATE:20230509
DTSTAMP:20260419T130727
CREATED:20220623T181230Z
LAST-MODIFIED:20220623T181230Z
UID:149633-1683504000-1683590399@old.arizonachristian.edu
SUMMARY:Classes Begin - Summer Traditional
DESCRIPTION:
URL:https://old.arizonachristian.edu/event/classes-begin-summer-traditional/
CATEGORIES:Summer Sessions 2023
END:VEVENT
BEGIN:VEVENT
DTSTART;VALUE=DATE:20230507
DTEND;VALUE=DATE:20230508
DTSTAMP:20260419T130727
CREATED:20220623T180120Z
LAST-MODIFIED:20220623T180120Z
UID:149604-1683417600-1683503999@old.arizonachristian.edu
SUMMARY:Last Day of Scheduled Class - Spring 2 Online
DESCRIPTION:
URL:https://old.arizonachristian.edu/event/last-day-of-scheduled-class-spring-2-online/
CATEGORIES:Spring Semester 2023
END:VEVENT
BEGIN:VEVENT
DTSTART;VALUE=DATE:20230505
DTEND;VALUE=DATE:20230506
DTSTAMP:20260419T130727
CREATED:20220623T181130Z
LAST-MODIFIED:20220623T181130Z
UID:149632-1683244800-1683331199@old.arizonachristian.edu
SUMMARY:Student Check-in - Summer
DESCRIPTION:
URL:https://old.arizonachristian.edu/event/student-check-in-summer/
CATEGORIES:Summer Sessions 2023
END:VEVENT
END:VCALENDAR