BEGIN:VCALENDAR
VERSION:2.0
PRODID:-//Arizona Christian University - ECPv6.4.0.1//NONSGML v1.0//EN
CALSCALE:GREGORIAN
METHOD:PUBLISH
X-WR-CALNAME:Arizona Christian University
X-ORIGINAL-URL:https://old.arizonachristian.edu
X-WR-CALDESC:Events for Arizona Christian University
REFRESH-INTERVAL;VALUE=DURATION:PT1H
X-Robots-Tag:noindex
X-PUBLISHED-TTL:PT1H
BEGIN:VTIMEZONE
TZID:America/Phoenix
BEGIN:STANDARD
TZOFFSETFROM:-0700
TZOFFSETTO:-0700
TZNAME:MST
DTSTART:20230101T000000
END:STANDARD
END:VTIMEZONE
BEGIN:VEVENT
DTSTART;TZID=America/Phoenix:20230228T200000
DTEND;TZID=America/Phoenix:20230228T220000
DTSTAMP:20260419T200648
CREATED:20221220T165358Z
LAST-MODIFIED:20230301T045504Z
UID:155795-1677614400-1677621600@old.arizonachristian.edu
SUMMARY:Volleyball Intramurals
DESCRIPTION:
URL:https://old.arizonachristian.edu/event/volleyball-intramurals-2/
LOCATION:Firestorm Recreation Center
END:VEVENT
BEGIN:VEVENT
DTSTART;TZID=America/Phoenix:20230224T090000
DTEND;TZID=America/Phoenix:20230224T100000
DTSTAMP:20260419T200648
CREATED:20230126T235836Z
LAST-MODIFIED:20230224T164009Z
UID:157302-1677229200-1677232800@old.arizonachristian.edu
SUMMARY:Coffee & Careers: Taxes
DESCRIPTION:
URL:https://old.arizonachristian.edu/event/coffee-careers-taxes/
LOCATION:TC Room
END:VEVENT
BEGIN:VEVENT
DTSTART;TZID=America/Phoenix:20230223T110000
DTEND;TZID=America/Phoenix:20230223T140000
DTSTAMP:20260419T200648
CREATED:20230126T235826Z
LAST-MODIFIED:20230223T202446Z
UID:157301-1677150000-1677160800@old.arizonachristian.edu
SUMMARY:Camp Fair
DESCRIPTION:
URL:https://old.arizonachristian.edu/event/camp-fair/
LOCATION:Pavilion
END:VEVENT
BEGIN:VEVENT
DTSTART;TZID=America/Phoenix:20230222T193000
DTEND;TZID=America/Phoenix:20230222T210000
DTSTAMP:20260419T200648
CREATED:20230126T231228Z
LAST-MODIFIED:20230223T035428Z
UID:157296-1677094200-1677099600@old.arizonachristian.edu
SUMMARY:Wednesday Night Live
DESCRIPTION:
URL:https://old.arizonachristian.edu/event/wednesday-night-live-2/
LOCATION:Tower Patio
END:VEVENT
BEGIN:VEVENT
DTSTART;TZID=America/Phoenix:20230222T180000
DTEND;TZID=America/Phoenix:20230222T193000
DTSTAMP:20260419T200648
CREATED:20230126T235815Z
LAST-MODIFIED:20230223T020938Z
UID:157300-1677088800-1677094200@old.arizonachristian.edu
SUMMARY:Men's Volleyball vs. Ottawa
DESCRIPTION:
URL:https://old.arizonachristian.edu/event/mens-volleyball-vs-ottawa/
LOCATION:Firestorm Recreation Center
END:VEVENT
BEGIN:VEVENT
DTSTART;TZID=America/Phoenix:20230222T170000
DTEND;TZID=America/Phoenix:20230222T200000
DTSTAMP:20260419T200648
CREATED:20230117T083917Z
LAST-MODIFIED:20230126T205642Z
UID:156840-1677085200-1677096000@old.arizonachristian.edu
SUMMARY:Pregame Party: MVB vs. Ottawa
DESCRIPTION:Get your tickets online
URL:https://old.arizonachristian.edu/event/pregame-party-mvb-vs-ottawa/
LOCATION:Firestorm Recreation Center
END:VEVENT
BEGIN:VEVENT
DTSTART;TZID=America/Phoenix:20230221T200000
DTEND;TZID=America/Phoenix:20230221T220000
DTSTAMP:20260419T200648
CREATED:20230118T193853Z
LAST-MODIFIED:20230222T043909Z
UID:156942-1677009600-1677016800@old.arizonachristian.edu
SUMMARY:Volleyball Intramurals
DESCRIPTION:
URL:https://old.arizonachristian.edu/event/volleyball-intramurals-3/
LOCATION:Firestorm Recreation Center
END:VEVENT
BEGIN:VEVENT
DTSTART;VALUE=DATE:20230217
DTEND;VALUE=DATE:20230218
DTSTAMP:20260419T200648
CREATED:20220623T180655Z
LAST-MODIFIED:20220623T180655Z
UID:149625-1676592000-1676678399@old.arizonachristian.edu
SUMMARY:Independent Studies/Internships - Last Day to Complete an Incomplete Course
DESCRIPTION:
URL:https://old.arizonachristian.edu/event/independent-studies-internships-last-day-to-complete-an-incomplete-course/
CATEGORIES:Intercession 2022-2023
END:VEVENT
BEGIN:VEVENT
DTSTART;TZID=America/Phoenix:20230214T190000
DTEND;TZID=America/Phoenix:20230214T203000
DTSTAMP:20260419T200648
CREATED:20221220T165357Z
LAST-MODIFIED:20230208T092541Z
UID:155793-1676401200-1676406600@old.arizonachristian.edu
SUMMARY:Heartbreaks and Horchata
DESCRIPTION:
URL:https://old.arizonachristian.edu/event/heartbreaks-and-horchata/
LOCATION:Pavilion
END:VEVENT
BEGIN:VEVENT
DTSTART;TZID=America/Phoenix:20230209T190000
DTEND;TZID=America/Phoenix:20230209T210000
DTSTAMP:20260419T200648
CREATED:20230126T205606Z
LAST-MODIFIED:20230208T092527Z
UID:157276-1675969200-1675976400@old.arizonachristian.edu
SUMMARY:Brushes & Ballads
DESCRIPTION:
URL:https://old.arizonachristian.edu/event/brushes-ballads/
LOCATION:Pavilion
END:VEVENT
BEGIN:VEVENT
DTSTART;TZID=America/Phoenix:20230208T190000
DTEND;TZID=America/Phoenix:20230208T210000
DTSTAMP:20260419T200648
CREATED:20230126T222629Z
LAST-MODIFIED:20230208T092517Z
UID:157282-1675882800-1675890000@old.arizonachristian.edu
SUMMARY:Encounter: Circuit Riders
DESCRIPTION:
URL:https://old.arizonachristian.edu/event/encounter-circuit-riders/
LOCATION:King Auditorium
END:VEVENT
BEGIN:VEVENT
DTSTART;TZID=America/Phoenix:20230207T200000
DTEND;TZID=America/Phoenix:20230207T220000
DTSTAMP:20260419T200648
CREATED:20221220T165357Z
LAST-MODIFIED:20230208T045445Z
UID:155794-1675800000-1675807200@old.arizonachristian.edu
SUMMARY:Volleyball Intramurals
DESCRIPTION:
URL:https://old.arizonachristian.edu/event/volleyball-intramurals/
LOCATION:Firestorm Recreation Center
END:VEVENT
BEGIN:VEVENT
DTSTART;TZID=America/Phoenix:20230207T200000
DTEND;TZID=America/Phoenix:20230207T220000
DTSTAMP:20260419T200648
CREATED:20221220T165357Z
LAST-MODIFIED:20230118T190912Z
UID:155792-1675800000-1675807200@old.arizonachristian.edu
SUMMARY:Spikeball Intramurals
DESCRIPTION:Hosted by Campus Recreation
URL:https://old.arizonachristian.edu/event/spikeball-intramurals-4/
LOCATION:Firestorm Recreation Center
END:VEVENT
BEGIN:VEVENT
DTSTART;TZID=America/Phoenix:20230207T170000
DTEND;TZID=America/Phoenix:20230207T180000
DTSTAMP:20260419T200648
CREATED:20230126T222606Z
LAST-MODIFIED:20230208T005447Z
UID:157281-1675789200-1675792800@old.arizonachristian.edu
SUMMARY:Evangelism Training: Circuit Riders
DESCRIPTION:
URL:https://old.arizonachristian.edu/event/evangelsim-training-circuit-riders/
LOCATION:King Auditorium
END:VEVENT
BEGIN:VEVENT
DTSTART;TZID=America/Phoenix:20230204T120000
DTEND;TZID=America/Phoenix:20230204T160000
DTSTAMP:20260419T200648
CREATED:20230123T175535Z
LAST-MODIFIED:20230204T212433Z
UID:157156-1675512000-1675526400@old.arizonachristian.edu
SUMMARY:Basketball vs. Life Pacific
DESCRIPTION:Get your tickets online and join the Ring of Fire.\n12:00 (W)\, 2:00 (M)
URL:https://old.arizonachristian.edu/event/basketball-vs-life-pacific/
LOCATION:Event Center
END:VEVENT
BEGIN:VEVENT
DTSTART;TZID=America/Phoenix:20230204T100000
DTEND;TZID=America/Phoenix:20230204T120000
DTSTAMP:20260419T200648
CREATED:20230123T175542Z
LAST-MODIFIED:20230204T182456Z
UID:157157-1675504800-1675512000@old.arizonachristian.edu
SUMMARY:Softball vs. Park University
DESCRIPTION:
URL:https://old.arizonachristian.edu/event/softball-vs-park-university/
END:VEVENT
BEGIN:VEVENT
DTSTART;VALUE=DATE:20230204
DTEND;VALUE=DATE:20230205
DTSTAMP:20260419T200648
CREATED:20230123T175547Z
LAST-MODIFIED:20230204T235443Z
UID:157158-1675468800-1675555199@old.arizonachristian.edu
SUMMARY:ROF: ACU Gear Saturday
DESCRIPTION:Wear ACU gear and support the Firestorm in competition.\nA gift card will be given to the best dressed. Swing by the Student Success Center to enter.
URL:https://old.arizonachristian.edu/event/rof-acu-gear-saturday/
END:VEVENT
BEGIN:VEVENT
DTSTART;VALUE=DATE:20230203
DTEND;VALUE=DATE:20230204
DTSTAMP:20260419T200648
CREATED:20220623T180106Z
LAST-MODIFIED:20220623T180106Z
UID:149596-1675382400-1675468799@old.arizonachristian.edu
SUMMARY:Last Day to Withdraw - Spring 1 Online
DESCRIPTION:
URL:https://old.arizonachristian.edu/event/last-day-to-withdraw-spring-1-online/
CATEGORIES:Spring Semester 2023
END:VEVENT
BEGIN:VEVENT
DTSTART;VALUE=DATE:20230202
DTEND;VALUE=DATE:20230203
DTSTAMP:20260419T200648
CREATED:20230123T175515Z
LAST-MODIFIED:20230202T232538Z
UID:157153-1675296000-1675382399@old.arizonachristian.edu
SUMMARY:ROF: Tropical Thursday
DESCRIPTION:Dress up in your best tropical themed attire.\nA gift card will be given to the best dressed. Swing by the Student Success Center to enter.
URL:https://old.arizonachristian.edu/event/rof-tropical-thursday/
END:VEVENT
BEGIN:VEVENT
DTSTART;TZID=America/Phoenix:20230201T190000
DTEND;TZID=America/Phoenix:20230201T210000
DTSTAMP:20260419T200648
CREATED:20230126T205516Z
LAST-MODIFIED:20230202T032433Z
UID:157275-1675278000-1675285200@old.arizonachristian.edu
SUMMARY:Chips and Salsa Dancing Lesson
DESCRIPTION:
URL:https://old.arizonachristian.edu/event/chips-and-salsa-dancing-lesson/
LOCATION:Pavilion
END:VEVENT
BEGIN:VEVENT
DTSTART;VALUE=DATE:20230201
DTEND;VALUE=DATE:20230202
DTSTAMP:20260419T200648
CREATED:20230123T175520Z
LAST-MODIFIED:20230201T235412Z
UID:157154-1675209600-1675295999@old.arizonachristian.edu
SUMMARY:ROF: Jersey Wednesday
DESCRIPTION:Wear your favorite teams jersey.\nA gift card will be given to the best dressed. Swing by the Student Success Center to enter.
URL:https://old.arizonachristian.edu/event/rof-jersey-wednesday/
END:VEVENT
BEGIN:VEVENT
DTSTART;TZID=America/Phoenix:20230131T200000
DTEND;TZID=America/Phoenix:20230131T220000
DTSTAMP:20260419T200648
CREATED:20221220T165357Z
LAST-MODIFIED:20230201T042412Z
UID:155791-1675195200-1675202400@old.arizonachristian.edu
SUMMARY:Spikeball Intramurals
DESCRIPTION:Hosted by Campus Recreation
URL:https://old.arizonachristian.edu/event/spikeball-intramurals-3/
LOCATION:Firestorm Recreation Center
END:VEVENT
BEGIN:VEVENT
DTSTART;VALUE=DATE:20230131
DTEND;VALUE=DATE:20230201
DTSTAMP:20260419T200648
CREATED:20230123T175525Z
LAST-MODIFIED:20230131T235407Z
UID:157155-1675123200-1675209599@old.arizonachristian.edu
SUMMARY:ROF: Twin Tuesday
DESCRIPTION:Dress up with a friend in the same outfit.\nA gift card will be given to the best dressed. Swing by the Student Success Center to enter.
URL:https://old.arizonachristian.edu/event/rof-twin-tuesday/
END:VEVENT
BEGIN:VEVENT
DTSTART;VALUE=DATE:20230130
DTEND;VALUE=DATE:20230131
DTSTAMP:20260419T200648
CREATED:20230123T175458Z
LAST-MODIFIED:20230130T233912Z
UID:157152-1675036800-1675123199@old.arizonachristian.edu
SUMMARY:ROF: USA Monday
DESCRIPTION:Dress up in your best USA attire.\nA gift card will be given to the best dressed. Swing by the Student Success Center to enter.
URL:https://old.arizonachristian.edu/event/rof-usa-monday/
END:VEVENT
BEGIN:VEVENT
DTSTART;TZID=America/Phoenix:20230128T120000
DTEND;TZID=America/Phoenix:20230128T160000
DTSTAMP:20260419T200648
CREATED:20230117T083916Z
LAST-MODIFIED:20230128T223934Z
UID:156837-1674907200-1674921600@old.arizonachristian.edu
SUMMARY:Softball vs. College of Idaho
DESCRIPTION:Season opener is on campus!!\nGames at 12 and 2
URL:https://old.arizonachristian.edu/event/softball-vs-college-of-idaho/
LOCATION:Softball Field
END:VEVENT
BEGIN:VEVENT
DTSTART;TZID=America/Phoenix:20230127T200000
DTEND;TZID=America/Phoenix:20230128T200000
DTSTAMP:20260419T200648
CREATED:20230117T083916Z
LAST-MODIFIED:20230129T025447Z
UID:156835-1674849600-1674936000@old.arizonachristian.edu
SUMMARY:Ignite (24 Hr. Prayer)
DESCRIPTION:
URL:https://old.arizonachristian.edu/event/ignite-24-hr-prayer/
LOCATION:King Auditorium
END:VEVENT
BEGIN:VEVENT
DTSTART;TZID=America/Phoenix:20230127T090000
DTEND;TZID=America/Phoenix:20230127T100000
DTSTAMP:20260419T200648
CREATED:20230117T083916Z
LAST-MODIFIED:20230127T162411Z
UID:156834-1674810000-1674813600@old.arizonachristian.edu
SUMMARY:Coffee and Careers: Budgeting
DESCRIPTION:Hosted by Career Services
URL:https://old.arizonachristian.edu/event/coffee-and-careers-budgeting/
LOCATION:TC Room
END:VEVENT
BEGIN:VEVENT
DTSTART;VALUE=DATE:20230127
DTEND;VALUE=DATE:20230128
DTSTAMP:20260419T200648
CREATED:20220623T174339Z
LAST-MODIFIED:20220623T175154Z
UID:149549-1674777600-1674863999@old.arizonachristian.edu
SUMMARY:Diplomas ready for pickup/mailed - Fall Semester
DESCRIPTION:
URL:https://old.arizonachristian.edu/event/diplomas-ready-for-pickup-mailed-fall-semester/
CATEGORIES:Fall Semester 2022
END:VEVENT
BEGIN:VEVENT
DTSTART;VALUE=DATE:20230127
DTEND;VALUE=DATE:20230128
DTSTAMP:20260419T200648
CREATED:20220623T174339Z
LAST-MODIFIED:20220623T175147Z
UID:149548-1674777600-1674863999@old.arizonachristian.edu
SUMMARY:Last Day to Complete an Incomplete Course -  Fall Traditional
DESCRIPTION:
URL:https://old.arizonachristian.edu/event/last-day-to-complete-an-incomplete-course-fall-traditional/
CATEGORIES:Fall Semester 2022
END:VEVENT
BEGIN:VEVENT
DTSTART;VALUE=DATE:20230126
DTEND;VALUE=DATE:20230127
DTSTAMP:20260419T200648
CREATED:20220623T180105Z
LAST-MODIFIED:20220623T180105Z
UID:149593-1674691200-1674777599@old.arizonachristian.edu
SUMMARY:Census Day at 5:00pm -Spring Semester
DESCRIPTION:
URL:https://old.arizonachristian.edu/event/census-day-at-500pm-spring-semester/
CATEGORIES:Spring Semester 2023
END:VEVENT
END:VCALENDAR