BEGIN:VCALENDAR
VERSION:2.0
PRODID:-//Arizona Christian University - ECPv6.4.0.1//NONSGML v1.0//EN
CALSCALE:GREGORIAN
METHOD:PUBLISH
X-ORIGINAL-URL:https://old.arizonachristian.edu
X-WR-CALDESC:Events for Arizona Christian University
REFRESH-INTERVAL;VALUE=DURATION:PT1H
X-Robots-Tag:noindex
X-PUBLISHED-TTL:PT1H
BEGIN:VTIMEZONE
TZID:America/Phoenix
BEGIN:STANDARD
TZOFFSETFROM:-0700
TZOFFSETTO:-0700
TZNAME:MST
DTSTART:20230101T000000
END:STANDARD
END:VTIMEZONE
BEGIN:VEVENT
DTSTART;VALUE=DATE:20230301
DTEND;VALUE=DATE:20230302
DTSTAMP:20260425T211557
CREATED:20230117T083917Z
LAST-MODIFIED:20230301T235511Z
UID:156841-1677628800-1677715199@old.arizonachristian.edu
SUMMARY:Silent Disco
DESCRIPTION:Hosted by CAB
URL:https://old.arizonachristian.edu/event/silent-disco/
LOCATION:Pavilion
END:VEVENT
BEGIN:VEVENT
DTSTART;TZID=America/Phoenix:20230302T190000
DTEND;TZID=America/Phoenix:20230302T210000
DTSTAMP:20260425T211557
CREATED:20230222T185455Z
LAST-MODIFIED:20230303T033906Z
UID:158505-1677783600-1677790800@old.arizonachristian.edu
SUMMARY:Encounter
DESCRIPTION:
URL:https://old.arizonachristian.edu/event/encounter-4/
END:VEVENT
BEGIN:VEVENT
DTSTART;VALUE=DATE:20230305
DTEND;VALUE=DATE:20230306
DTSTAMP:20260425T211557
CREATED:20220623T180120Z
LAST-MODIFIED:20220623T180120Z
UID:149603-1677974400-1678060799@old.arizonachristian.edu
SUMMARY:Last Day of Scheduled Class - Spring 1 Online
DESCRIPTION:
URL:https://old.arizonachristian.edu/event/last-day-of-scheduled-class-spring-1-online/
CATEGORIES:Spring Semester 2023
END:VEVENT
BEGIN:VEVENT
DTSTART;VALUE=DATE:20230306
DTEND;VALUE=DATE:20230307
DTSTAMP:20260425T211557
CREATED:20220623T180028Z
LAST-MODIFIED:20220623T180028Z
UID:149576-1678060800-1678147199@old.arizonachristian.edu
SUMMARY:Payment in Full or Payment Plans Established - Spring 2 Online
DESCRIPTION:
URL:https://old.arizonachristian.edu/event/payment-in-full-or-payment-plans-established-spring-2-online/
CATEGORIES:Spring Semester 2023
END:VEVENT
BEGIN:VEVENT
DTSTART;VALUE=DATE:20230306
DTEND;VALUE=DATE:20230310
DTSTAMP:20260425T211557
CREATED:20220623T180106Z
LAST-MODIFIED:20220623T180106Z
UID:149594-1678060800-1678406399@old.arizonachristian.edu
SUMMARY:Spring Break
DESCRIPTION:
URL:https://old.arizonachristian.edu/event/spring-break/
CATEGORIES:Spring Semester 2023
END:VEVENT
BEGIN:VEVENT
DTSTART;VALUE=DATE:20230306
DTEND;VALUE=DATE:20230311
DTSTAMP:20260425T211557
CREATED:20221220T165358Z
LAST-MODIFIED:20230310T234038Z
UID:155796-1678060800-1678492799@old.arizonachristian.edu
SUMMARY:Spring Break
DESCRIPTION:
URL:https://old.arizonachristian.edu/event/spring-break-2/
END:VEVENT
BEGIN:VEVENT
DTSTART;VALUE=DATE:20230310
DTEND;VALUE=DATE:20230311
DTSTAMP:20260425T211557
CREATED:20220623T180121Z
LAST-MODIFIED:20220623T180121Z
UID:149606-1678406400-1678492799@old.arizonachristian.edu
SUMMARY:Final Grades Due by 5:00pm (Canvas) -  Spring 1 Online
DESCRIPTION:
URL:https://old.arizonachristian.edu/event/final-grades-due-by-500pm-canvas-spring-1-online/
CATEGORIES:Spring Semester 2023
END:VEVENT
BEGIN:VEVENT
DTSTART;VALUE=DATE:20230311
DTEND;VALUE=DATE:20230312
DTSTAMP:20260425T211557
CREATED:20220623T180126Z
LAST-MODIFIED:20220623T180126Z
UID:149609-1678492800-1678579199@old.arizonachristian.edu
SUMMARY:Grades posted to academic records (Populi) -  Spring 1 Online
DESCRIPTION:
URL:https://old.arizonachristian.edu/event/grades-posted-to-academic-records-populi-spring-1-online/
END:VEVENT
BEGIN:VEVENT
DTSTART;VALUE=DATE:20230313
DTEND;VALUE=DATE:20230314
DTSTAMP:20260425T211557
CREATED:20220623T180050Z
LAST-MODIFIED:20220623T180050Z
UID:149582-1678665600-1678751999@old.arizonachristian.edu
SUMMARY:Classes Begin - Spring 2 Online
DESCRIPTION:
URL:https://old.arizonachristian.edu/event/classes-begin-spring-2-online/
CATEGORIES:Spring Semester 2023
END:VEVENT
BEGIN:VEVENT
DTSTART;VALUE=DATE:20230315
DTEND;VALUE=DATE:20230316
DTSTAMP:20260425T211557
CREATED:20230117T083917Z
LAST-MODIFIED:20230126T205719Z
UID:156842-1678838400-1678924799@old.arizonachristian.edu
SUMMARY:Brushes and Ballads
DESCRIPTION:Hosted by CAB
URL:https://old.arizonachristian.edu/event/brushes-and-ballads/
LOCATION:Pavilion
END:VEVENT
BEGIN:VEVENT
DTSTART;VALUE=DATE:20230317
DTEND;VALUE=DATE:20230318
DTSTAMP:20260425T211557
CREATED:20220623T180105Z
LAST-MODIFIED:20220623T180105Z
UID:149592-1679011200-1679097599@old.arizonachristian.edu
SUMMARY:Deadline for Independent Study/Internship Application - Spring 2 Online
DESCRIPTION:
URL:https://old.arizonachristian.edu/event/deadline-for-independent-study-internship-application-spring-2-online/
CATEGORIES:Spring Semester 2023
END:VEVENT
BEGIN:VEVENT
DTSTART;VALUE=DATE:20230320
DTEND;VALUE=DATE:20230321
DTSTAMP:20260425T211557
CREATED:20220623T180051Z
LAST-MODIFIED:20220623T180051Z
UID:149586-1679270400-1679356799@old.arizonachristian.edu
SUMMARY:Last day to Enroll/Unenroll from ACU - Spring 2 Online
DESCRIPTION:
URL:https://old.arizonachristian.edu/event/last-day-to-enroll-unenroll-from-acu-spring-2-online/
CATEGORIES:Spring Semester 2023
END:VEVENT
BEGIN:VEVENT
DTSTART;VALUE=DATE:20230320
DTEND;VALUE=DATE:20230321
DTSTAMP:20260425T211557
CREATED:20220623T180059Z
LAST-MODIFIED:20220623T180059Z
UID:149589-1679270400-1679356799@old.arizonachristian.edu
SUMMARY:Course Add/Drop Deadline - Spring 2 online
DESCRIPTION:
URL:https://old.arizonachristian.edu/event/course-add-drop-deadline-spring-2-online/
END:VEVENT
BEGIN:VEVENT
DTSTART;VALUE=DATE:20230323
DTEND;VALUE=DATE:20230324
DTSTAMP:20260425T211557
CREATED:20220623T180106Z
LAST-MODIFIED:20220623T180106Z
UID:149595-1679529600-1679615999@old.arizonachristian.edu
SUMMARY:Last Day to Withdraw  -  Spring Traditional
DESCRIPTION:
URL:https://old.arizonachristian.edu/event/last-day-to-withdraw-spring-traditional/
CATEGORIES:Spring Semester 2023
END:VEVENT
BEGIN:VEVENT
DTSTART;VALUE=DATE:20230329
DTEND;VALUE=DATE:20230330
DTSTAMP:20260425T211557
CREATED:20230117T083917Z
LAST-MODIFIED:20230329T234032Z
UID:156843-1680048000-1680134399@old.arizonachristian.edu
SUMMARY:Unbirthday Party
DESCRIPTION:A birthday celebration for no one.\nHosted by CAB
URL:https://old.arizonachristian.edu/event/unbirthday-party/
LOCATION:Pavilion
END:VEVENT
END:VCALENDAR