BEGIN:VCALENDAR
VERSION:2.0
PRODID:-//Arizona Christian University - ECPv6.4.0.1//NONSGML v1.0//EN
CALSCALE:GREGORIAN
METHOD:PUBLISH
X-WR-CALNAME:Arizona Christian University
X-ORIGINAL-URL:https://old.arizonachristian.edu
X-WR-CALDESC:Events for Arizona Christian University
REFRESH-INTERVAL;VALUE=DURATION:PT1H
X-Robots-Tag:noindex
X-PUBLISHED-TTL:PT1H
BEGIN:VTIMEZONE
TZID:America/Phoenix
BEGIN:STANDARD
TZOFFSETFROM:-0700
TZOFFSETTO:-0700
TZNAME:MST
DTSTART:20230101T000000
END:STANDARD
END:VTIMEZONE
BEGIN:VEVENT
DTSTART;VALUE=DATE:20230813
DTEND;VALUE=DATE:20230814
DTSTAMP:20260423T090526
CREATED:20220623T181658Z
LAST-MODIFIED:20220623T181658Z
UID:149660-1691884800-1691971199@old.arizonachristian.edu
SUMMARY:Last Day to Complete an Incomplete Course -  Summer 1 Online
DESCRIPTION:
URL:https://old.arizonachristian.edu/event/last-day-to-complete-an-incomplete-course-summer-1-online/
CATEGORIES:Summer Sessions 2023
END:VEVENT
BEGIN:VEVENT
DTSTART;VALUE=DATE:20230817
DTEND;VALUE=DATE:20230818
DTSTAMP:20260423T090526
CREATED:20220623T181543Z
LAST-MODIFIED:20220623T181543Z
UID:149650-1692230400-1692316799@old.arizonachristian.edu
SUMMARY:Last Day of Scheduled Class - Summer Traditional
DESCRIPTION:
URL:https://old.arizonachristian.edu/event/last-day-of-scheduled-class-summer-traditional/
CATEGORIES:Summer Sessions 2023
END:VEVENT
BEGIN:VEVENT
DTSTART;VALUE=DATE:20230818
DTEND;VALUE=DATE:20230819
DTSTAMP:20260423T090526
CREATED:20220623T181643Z
LAST-MODIFIED:20220623T181643Z
UID:149653-1692316800-1692403199@old.arizonachristian.edu
SUMMARY:Final Grades Due by 5:00pm (Canvas) -  Summer Traditional
DESCRIPTION:
URL:https://old.arizonachristian.edu/event/final-grades-due-by-500pm-canvas-summer-traditional/
CATEGORIES:Summer Sessions 2023
END:VEVENT
BEGIN:VEVENT
DTSTART;VALUE=DATE:20230819
DTEND;VALUE=DATE:20230820
DTSTAMP:20260423T090526
CREATED:20220623T181644Z
LAST-MODIFIED:20220623T181644Z
UID:149656-1692403200-1692489599@old.arizonachristian.edu
SUMMARY:Grades posted to academic records (Populi) -  Summer Traditional
DESCRIPTION:
URL:https://old.arizonachristian.edu/event/grades-posted-to-academic-records-populi-summer-traditional/
CATEGORIES:Summer Sessions 2023
END:VEVENT
BEGIN:VEVENT
DTSTART;VALUE=DATE:20230827
DTEND;VALUE=DATE:20230828
DTSTAMP:20260423T090526
CREATED:20220623T181544Z
LAST-MODIFIED:20220623T181544Z
UID:149652-1693094400-1693180799@old.arizonachristian.edu
SUMMARY:Last Day of Scheduled Class - Summer 2 Online
DESCRIPTION:
URL:https://old.arizonachristian.edu/event/last-day-of-scheduled-class-summer-2-online/
CATEGORIES:Summer Sessions 2023
END:VEVENT
END:VCALENDAR